BEGIN:VCALENDAR
VERSION:2.0
PRODID:-//Local-Info.co.za - ECPv6.15.20//NONSGML v1.0//EN
CALSCALE:GREGORIAN
METHOD:PUBLISH
X-WR-CALNAME:Local-Info.co.za
X-ORIGINAL-URL:https://local-info.co.za
X-WR-CALDESC:Events for Local-Info.co.za
REFRESH-INTERVAL;VALUE=DURATION:PT1H
X-Robots-Tag:noindex
X-PUBLISHED-TTL:PT1H
BEGIN:VTIMEZONE
TZID:Africa/Johannesburg
BEGIN:STANDARD
TZOFFSETFROM:+0200
TZOFFSETTO:+0200
TZNAME:SAST
DTSTART:20250101T000000
END:STANDARD
END:VTIMEZONE
BEGIN:VEVENT
DTSTART;TZID=Africa/Johannesburg:20260228T180000
DTEND;TZID=Africa/Johannesburg:20260228T180000
DTSTAMP:20260422T165308
CREATED:20260219T065649Z
LAST-MODIFIED:20260219T065741Z
UID:25697-1772301600-1772301600@local-info.co.za
SUMMARY:TRIBUTE TO RODRIGUEZ SHOW @ Die Bush Lapa
DESCRIPTION:Die Bush Lapa bied aan: TRIBUTE TO RODRIGUEZ SHOW. \nSaterdag 28 Februarie 2026.\n6pm tot laat. \nKontant Kroeg en Etes beskikbaar. \nBespreek jou kaartjie en sitplek so gou moontlik: \nhttps://www.webtickets.co.za/event.aspx?itemid=1587746499 \nKaartjies ook beskikbaar by jou naaste Pick n Pay. \nSien jou daar. \nDie Bush Lapa – Waar Musiek lekker is. \nVir meer inligting kontak: Byron Minnie – 079 404 5875
URL:https://local-info.co.za/event/tribute-to-rodriguez-show-die-bush-lapa/
LOCATION:Die Bush Lapa and Kd Fourie\, 2km on Oubaai Turnoff from R404 to Herold’s Bay\, George\,\, Western-Cape\, 6529\, South Africa
CATEGORIES:Events,Garden Route,George
ATTACH;FMTTYPE=image/jpeg:https://local-info.co.za/wp-content/uploads/2026/02/bush-lapa-logo.jpg
END:VEVENT
END:VCALENDAR