BEGIN:VCALENDAR
VERSION:2.0
PRODID:-//Local-Info.co.za - ECPv6.15.20//NONSGML v1.0//EN
CALSCALE:GREGORIAN
METHOD:PUBLISH
X-ORIGINAL-URL:https://local-info.co.za
X-WR-CALDESC:Events for Local-Info.co.za
REFRESH-INTERVAL;VALUE=DURATION:PT1H
X-Robots-Tag:noindex
X-PUBLISHED-TTL:PT1H
BEGIN:VTIMEZONE
TZID:Africa/Johannesburg
BEGIN:STANDARD
TZOFFSETFROM:+0200
TZOFFSETTO:+0200
TZNAME:SAST
DTSTART:20220101T000000
END:STANDARD
END:VTIMEZONE
BEGIN:VEVENT
DTSTART;VALUE=DATE:20230323
DTEND;VALUE=DATE:20230501
DTSTAMP:20260423T004127
CREATED:20230403T112548Z
LAST-MODIFIED:20230403T112522Z
UID:14717-1679529600-1682899199@local-info.co.za
SUMMARY:BEAUTIFUL accommodation available for easter!
DESCRIPTION:FROM 13 MARCH – 31 APRIL\nBook your weekend away at ONLY R450 per room! You can also book yourself in one of our backpacker rooms at ONLY R120 pp. The Golden Goose Private is a beautiful self-catering private guest farm with breathtaking views of the Swartberge and you can enjoy outside activities or simply relax with your loved ones. You can play a game of putt-putt or cool off at our splash pool while appreciating the view. There are braai facilities that can be used while playing pool or darts and even a dancing pole! Each room is absolutely beautiful in it’s own way which makes this experience even more unforgettable. One of our sweets have a waterbed inside which is very comfortable and just something different. Our rooms are spacious and there is a family unit with bunkbeds available. \nFEEL FREE TO GIVE US A CALL :Benjamin 081 287 9728 \nCLICK HERE TO VIEW OUR WEBSITE! \nROOMS:\n\n\n\n\n\n        \n            \n                                                \n\n                                        \n                        2022-11-27 (3)2022-11-27 (4)2022-11-27 (6)2022-11-27 (7)2022-11-27 (9)2022-11-27 (11)2022-11-272022-11-27 (1)2022-11-25 (9)                    \n\n                                    \n            \n        \n        \n\n\nACTIVITIES & OUTDOOR:\n\n\n\n\n\n        \n            \n                                                \n\n                                        \n                        IMG-20230313-WA0025Self Catering Accommodation 1IMG-20230327-WA00212022-11-27 (16)The Golden Goose 1 (8)2021-06-24Self Catering Accommodation2022-11-25 (3)The Golden Goose SpringbuckSelf Catering Accomodation Garden Route2022-11-25 (6)2022-11-25 (5)2022-11-27 (14)Self Catering Accommodation 2Self Catering Accommodation Garden Route 2IMG-20230327-WA0019IMG-20230327-WA0022IMG-20230327-WA0023IMG-20230327-WA0025IMG-20230327-WA0109IMG-20230327-WA0111
URL:https://local-info.co.za/event/dont-miss-out-on-this-easter-special-2/
LOCATION:THE GOLDEN GOOSE\, The Golden Goose\, Matjies rivier\, Oudtshoorn\, 6620\, Oudtshoorn\, Western Cape\, 6620\, South Africa
CATEGORIES:Garden Route,George,Great Brak,Hartenbos,Knysna,Mossel Bay,Plettenberg Bay,Sedgefield,Wilderness
ATTACH;FMTTYPE=image/jpeg:https://local-info.co.za/wp-content/uploads/2023/03/The-Golden-Goose-1-5.jpg
END:VEVENT
END:VCALENDAR