BEGIN:VCALENDAR
VERSION:2.0
PRODID:-//Local-Info.co.za - ECPv6.15.20//NONSGML v1.0//EN
CALSCALE:GREGORIAN
METHOD:PUBLISH
X-ORIGINAL-URL:https://local-info.co.za
X-WR-CALDESC:Events for Local-Info.co.za
REFRESH-INTERVAL;VALUE=DURATION:PT1H
X-Robots-Tag:noindex
X-PUBLISHED-TTL:PT1H
BEGIN:VTIMEZONE
TZID:Africa/Johannesburg
BEGIN:STANDARD
TZOFFSETFROM:+0200
TZOFFSETTO:+0200
TZNAME:SAST
DTSTART:20210101T000000
END:STANDARD
END:VTIMEZONE
BEGIN:VEVENT
DTSTART;TZID=Africa/Johannesburg:20220801T080000
DTEND;TZID=Africa/Johannesburg:20220831T170000
DTSTAMP:20260425T122859
CREATED:20220823T120330Z
LAST-MODIFIED:20220823T120623Z
UID:12341-1659340800-1661965200@local-info.co.za
SUMMARY:Pamper yourself at a low price @Salon Hair Affair Studio!
DESCRIPTION:Salon Hair Affair Studio in Plettenberg Bay – Hairdresser / Nail Bar / Make Up \nWe turn heads and so can you! COME MEET Sharon\, Melissa\, Charlene & Elsie at Salon Hair Affair Studio in Plettenberg Bay! We offer a large variety of services in our salon making it so much more convenient for our clients – all in one service! \n 
URL:https://local-info.co.za/event/12341/
LOCATION:Salon Hair Affair Studio\, Formosa Bay Resort\, Plettenberg Bay\, Western Cape\, 6600\, South Africa
CATEGORIES:Garden Route,Plettenberg Bay
ATTACH;FMTTYPE=image/jpeg:https://local-info.co.za/wp-content/uploads/2022/08/Salon-Hair-Affair-Studio-Specials.jpg
END:VEVENT
END:VCALENDAR