BEGIN:VCALENDAR
VERSION:2.0
PRODID:-//Local-Info.co.za - ECPv6.15.20//NONSGML v1.0//EN
CALSCALE:GREGORIAN
METHOD:PUBLISH
X-WR-CALNAME:Local-Info.co.za
X-ORIGINAL-URL:https://local-info.co.za
X-WR-CALDESC:Events for Local-Info.co.za
REFRESH-INTERVAL;VALUE=DURATION:PT1H
X-Robots-Tag:noindex
X-PUBLISHED-TTL:PT1H
BEGIN:VTIMEZONE
TZID:Africa/Johannesburg
BEGIN:STANDARD
TZOFFSETFROM:+0200
TZOFFSETTO:+0200
TZNAME:SAST
DTSTART:20210101T000000
END:STANDARD
END:VTIMEZONE
BEGIN:VEVENT
DTSTART;TZID=Africa/Johannesburg:20220601T080000
DTEND;TZID=Africa/Johannesburg:20220630T170000
DTSTAMP:20260425T154959
CREATED:20220607T140121Z
LAST-MODIFIED:20220607T140615Z
UID:10760-1654070400-1656608400@local-info.co.za
SUMMARY:Hair colour\, cut & blow special !
DESCRIPTION:Visit us @ Salon Hair Affair Studio in Plettenberg Bay for a hair root touch-up or even for a full hair colour change! \nTint root (regrowth) from R550 ! \nFull head colour from R650! \n* Includes cut & blow !! \n078 573 2074 \nVISIT OUR BUSINESS LISTING PAGE HERE \n 
URL:https://local-info.co.za/event/hair-colour-cut-blow-special/
CATEGORIES:Garden Route,Plettenberg Bay
ATTACH;FMTTYPE=image/jpeg:https://local-info.co.za/wp-content/uploads/2022/06/277251879_4888708471245532_9026336812404231648_n.jpg
END:VEVENT
END:VCALENDAR