BEGIN:VCALENDAR
VERSION:2.0
PRODID:-//Local-Info.co.za - ECPv6.15.20//NONSGML v1.0//EN
CALSCALE:GREGORIAN
METHOD:PUBLISH
X-ORIGINAL-URL:https://local-info.co.za
X-WR-CALDESC:Events for Local-Info.co.za
REFRESH-INTERVAL;VALUE=DURATION:PT1H
X-Robots-Tag:noindex
X-PUBLISHED-TTL:PT1H
BEGIN:VTIMEZONE
TZID:Africa/Johannesburg
BEGIN:STANDARD
TZOFFSETFROM:+0200
TZOFFSETTO:+0200
TZNAME:SAST
DTSTART:20240101T000000
END:STANDARD
END:VTIMEZONE
BEGIN:VEVENT
DTSTART;TZID=Africa/Johannesburg:20250417T100000
DTEND;TZID=Africa/Johannesburg:20250430T210000
DTSTAMP:20260422T170401
CREATED:20250417T104935Z
LAST-MODIFIED:20250417T104936Z
UID:22385-1744884000-1746046800@local-info.co.za
SUMMARY:Always a Perfect Pizza Guaranteed at Debonairs!
DESCRIPTION:Try our new PIZZAWRAP®: the ultimate on-the-go lunch\n \nWe see you out there – on your way to your next meeting\, phone in one hand checking emails\, a to-do list a mile long\, and making it all look easy! But this usually means you have to skip lunch. Not anymore. Do lunch on the move and keep the hustle going with our new PIZZAWRAP®. It’s made for those who have no time to chill and are always on the move. Keep one hand on your wrap\, one hand on your hustle\, and never skip lunch again. \n45 Main Rd\, Knysna Central\, Knysna\, 6571 \nNEW REAL DEAL LOADED PIZZA: LUNCH IS EXTRA SORTED\nR32.90 \n \nThe most amazing lunch idea you’ve had in a while is here: the Real Deal Loaded pizza topped with EXTRA meat—for just R32.90! \nBusy morning? Didn’t pack lunch? Good news! You don’t need to pull any tricks to get more. The Real Deal Loaded is bringing you EXTRA meat\, EXTRA flavour\, and EXTRA satisfaction—without the extra effort! \nOnline Exclusive Pizza Specials\nKHETHA 5\nR29990\nGet 5 medium (23 cm) pizzas \n \nGET-TO-GATHER\nR39990 \nGet 4 large (30 cm) pizzas \n \nLUNCH SAVER\nR8990 \nGet a medium (23 cm) pizza and a Buddy Coke \n \nCRAM DECKER FEAST\nR39990\nGet 2 large (30 cm) pizzas \n \nFAM FEAST\nR38990 \nGet 2 large (30 cm) Triple-Decker pizzas and 1.5L Coke \n \n\nClick to view: \n\nDEBONAIRS PIZZA – Voorbaai (Mossel Bay) \nDEBONAIRS PIZZA – Mossel Bay \nDEBONAIRS PIZZA – Knysna \n 
URL:https://local-info.co.za/event/always-a-perfect-pizza-guaranteed-at-debonairs/
LOCATION:DEBONAIRS\, Knysna : 50 Main Rd / Voorbaai : Louis Fourie Road / Mossel Bay : Bayview Centre.\, Knysna / Mossel Bay\, Western Cape\, South Africa
CATEGORIES:Garden Route,Knysna,Mossel Bay
END:VEVENT
BEGIN:VEVENT
DTSTART;TZID=Africa/Johannesburg:20250422T090000
DTEND;TZID=Africa/Johannesburg:20250430T213000
DTSTAMP:20260422T170401
CREATED:20250422T083805Z
LAST-MODIFIED:20250422T083806Z
UID:22400-1745312400-1746048600@local-info.co.za
SUMMARY:Steers Real Promos!
DESCRIPTION:WACKY WEDNESDAY\n\n\n\n\nBuy one burger and get one free—because\, let’s face it\, one is never enough. Order our Wacky Wednesday special and enjoy two delicious burgers for only R59.90. Enjoy both on a solo date or share with someone from your squad. \n \n\n\nENJOY THE FRESHEST BURGER MEAL\n\n\n\n\nWhen it comes to freshness\, our Phanda® Cheesy BBQ Double Burger Meal does the most. That’s not even the best thing\, you can also afford to have it every day because of the Real Fire price. Come through and get it from only R49.90. Wait\, there’s more! Enjoy it with an Ice Cream cone for only R5. \n \n\n\nOriginal King Steer® Burger Meal\n\n\n\n\nReal fire news! It’s time for you to enjoy Real value. Save R10 and feast on the Original King Steer® Burger Meal for only R99.90.\nDon’t waste any more time; come grab it today. \n \n\n\n1/4 CHICKEN MEAL FROM STEERS®\n\n\n\n\nReal value meets Real taste with the ¼ Chicken and small chips meal\, it now comes in a new BBQ flavour for just R49.90. Get to Steers® and enjoy unmatched Flame-Grilled flavour. \n  \n\n\n\n\n\n\n\n\n\n\n\n\n\n\n\nORDER NOW \nCLICK HERE TO VISIT OUR VOORBAAI  (MOSSEL BAY)BRANCH \nCLICK HERE TO VISIT OUR KNYSNA BRANCH \nCLICK HERE TO VISIT OUR SEDGEFIELD BRANCH \nCLICK HERE TO VISIT OUR MOSSEL BAY BRANCH
URL:https://local-info.co.za/event/steers-real-promos-4-10/
LOCATION:STEERS – SEDGEFIELD / KNYSNA / MOSSEL BAY\, South Africa
CATEGORIES:Garden Route,Knysna,Mossel Bay,Sedgefield
ATTACH;FMTTYPE=image/png:https://local-info.co.za/wp-content/uploads/2024/12/Wacky-Wednessday-Steers-.png
END:VEVENT
END:VCALENDAR