BEGIN:VCALENDAR
VERSION:2.0
PRODID:-//Local-Info.co.za - ECPv6.15.20//NONSGML v1.0//EN
CALSCALE:GREGORIAN
METHOD:PUBLISH
X-WR-CALNAME:Local-Info.co.za
X-ORIGINAL-URL:https://local-info.co.za
X-WR-CALDESC:Events for Local-Info.co.za
REFRESH-INTERVAL;VALUE=DURATION:PT1H
X-Robots-Tag:noindex
X-PUBLISHED-TTL:PT1H
BEGIN:VTIMEZONE
TZID:Africa/Johannesburg
BEGIN:STANDARD
TZOFFSETFROM:+0200
TZOFFSETTO:+0200
TZNAME:SAST
DTSTART:20240101T000000
END:STANDARD
END:VTIMEZONE
BEGIN:VEVENT
DTSTART;TZID=Africa/Johannesburg:20250107T080000
DTEND;TZID=Africa/Johannesburg:20250131T170000
DTSTAMP:20260422T220719
CREATED:20250320T113035Z
LAST-MODIFIED:20250327T071451Z
UID:21559-1736236800-1738342800@local-info.co.za
SUMMARY:Big Joes Pies - Specials!
DESCRIPTION:Double-Up Deal: 2 Delicious Big Joe’s Pies for Just R45!\n \nTreat yourself and a friend (or keep both for yourself!) with our irresistible Double-Up Deal. Enjoy two of our famous Big Joe’s Pies\, packed with generous fillings and wrapped in golden\, flaky pastry that’s baked to perfection. Choose from a variety of delicious flavors to satisfy every craving. Don’t miss out—head to Big Joe’s Pies today! \nBiltong & Cheese Lovers\, This One’s for You!\nBiltong & Cheese lovers\, this one’s for you! 🥧🧀 Big Joe’s Pies brings you a bold\, cheesy delight packed with flavor. One bite\, and you’ll be hooked! Try it today \n\nCan’t Stop Thinking About Lunch? – Grab a Pie & Buddy Coke at Big Joe’s Pies!\nAlways thinking about lunch? 🤤 We get it! Stop the cravings with a delicious Big Joe’s Pie and an ice-cold Buddy Coke. The perfect combo to hit the spot! \n\nFresh Out of the Oven! Buy 4\, GetREE – Big Joe’s Pies Got You!\n𝓐𝓛𝓦𝓐𝓨𝓢 𝓕𝓡𝓔𝓢𝓗 and hot out of the oven!\nBig Joe’s Pies don’t mess around with any preservatives\, food colouring\, or additives. We’re all about serving you HANDMADE pies with dedication and love  Visit your Big Joe’s Pies today – your taste buds will thank you!
URL:https://local-info.co.za/event/big-joes-pies-specials/
LOCATION:Big Joe’s Pies\, 72 Knysna Rd\, Eastern Extension\, George\, Western Cape\, 6529\, South Africa
CATEGORIES:Garden Route,George,Knysna,Mossel Bay,Specials
ATTACH;FMTTYPE=image/jpeg:https://local-info.co.za/wp-content/uploads/2025/01/BIG-JOES-PIES-MOSSEL-BAY-GEORGE-BANNER-1.jpg
END:VEVENT
BEGIN:VEVENT
DTSTART;TZID=Africa/Johannesburg:20250108T093000
DTEND;TZID=Africa/Johannesburg:20250131T213000
DTSTAMP:20260422T220719
CREATED:20250204T131015Z
LAST-MODIFIED:20250204T133430Z
UID:21594-1736328600-1738359000@local-info.co.za
SUMMARY:Debonairs - Specials
DESCRIPTION:NEW on the Debonairs Pizza menu: Pizza-Filla®\nGot a friend who always “just wants a bite”? Or a bae who claims they’re not hungry but eats half your meal? The NEW amazing Pizza-Filla® is here to save the day (and your wallet). At just R139.90\, it’s more filling and easy on the budget. Life’s better when you share it—and your pizza! So\, grab the Pizza-Filla® and make sharing amazing. \n \nTREAT YOURSELF TO THE ULTIMATE ON-THE-GO PIZZA SPECIAL\nGetting a quick lunch? You can still make it amazing\, for less than R30. Make your way to Debonairs Pizza and grab one of our Real Deal Pizzas or a PIZZAWRAP® today. \n \nA PIZZA SPECIAL THAT’S MORE THAN EXPECTED FOR LUNCH\nYou only get one lunch a day – make it amazing with a lunch that’s More-Daan expected! Whether it’s your solo game-day feast\, a big lunch for a big day\, or just because you deserve a little extra joy – this is the one. \n\n🍕 Real Deal pizza\n🔥 10 Chicken Shots\n🥤 300ml Coke®\nAll yours for just R59.90.\n\nIt’s More-Daan expected. Why? Because lunch shouldn’t just fill you up; it should lift you up \n\n\n\n\n\n\n\n\n\n\n\n\nORDER NOW! \n\nClick to view: \nDEBONAIRS PIZZA – Voorbaai (Mossel Bay) \nDEBONAIRS PIZZA – Mossel Bay \nDEBONAIRS PIZZA – Knysna
URL:https://local-info.co.za/event/debonairs-specials/
LOCATION:DEBONAIRS\, Knysna : 50 Main Rd / Voorbaai : Louis Fourie Road / Mossel Bay : Bayview Centre.\, Knysna / Mossel Bay\, Western Cape\, South Africa
CATEGORIES:Garden Route,Knysna,Mossel Bay,Specials
ATTACH;FMTTYPE=image/png:https://local-info.co.za/wp-content/uploads/2025/01/unnamed.png
END:VEVENT
END:VCALENDAR