BEGIN:VCALENDAR
VERSION:2.0
PRODID:-//Local-Info.co.za - ECPv6.15.20//NONSGML v1.0//EN
CALSCALE:GREGORIAN
METHOD:PUBLISH
X-ORIGINAL-URL:https://local-info.co.za
X-WR-CALDESC:Events for Local-Info.co.za
REFRESH-INTERVAL;VALUE=DURATION:PT1H
X-Robots-Tag:noindex
X-PUBLISHED-TTL:PT1H
BEGIN:VTIMEZONE
TZID:Africa/Johannesburg
BEGIN:STANDARD
TZOFFSETFROM:+0200
TZOFFSETTO:+0200
TZNAME:SAST
DTSTART:20230101T000000
END:STANDARD
END:VTIMEZONE
BEGIN:VEVENT
DTSTART;TZID=Africa/Johannesburg:20241106T090000
DTEND;TZID=Africa/Johannesburg:20241130T213000
DTSTAMP:20260423T011223
CREATED:20241106T080803Z
LAST-MODIFIED:20241106T080931Z
UID:20858-1730883600-1733002200@local-info.co.za
SUMMARY:Debonairs – Our Amazing Pizza Specials!
DESCRIPTION:Try our new PIZZAWRAP®: the ultimate on-the-go lunch\nWe see you out there – on your way to your next meeting\, phone in one hand checking emails\, a to-do list a mile long\, and making it all look easy! But this usually means you have to skip lunch. Not anymore. Do lunch on the move and keep the hustle going with our new PIZZAWRAP®. It’s made for those who have no time to chill and are always on the move. Keep one hand on your wrap\, one hand on your hustle\, and never skip lunch again. \n \nSCORE BIG WITH THE DREAM TEAM 3 PIZZA SPECIAL!\nPut hunger on the sidelines with the Dream Team 3 pizza special. When they ask what’s for lunch or dinner\, make the winning play with 3 medium pizzas from a choice of 6 winning flavours for just R179.90 (that’s only R60 per pizza). It’s a pizza special made for family\, family friends\, or friends you call family. Get in the game and satisfy everyone’s cravings with the Dream Team 3. \nChoose your Dream Team 3\nWhen you’re with the dream team\, you need a sharing meal that’s always a winner. The Dream Team 3 is the one\, no matter who’s in your lunch or dinner squad. Need some help with your winning lineup? Here are some suggestions to help you pick the ultimate Dream Team 3. \n \nTs&Cs\nTs&Cs apply. Offer includes three medium (23cm) pizzas from the following flavour selection only: Hawaiian; Chicken & Mushroom; Sweet Chill Chicken; Barbeque Chicken & Mushroom; Original Veggie and Mexican Fiesta. While stocks Last. No substitutes on products offered. Visit debonairspizza.co.za for nutritional information. 3 rd party prices may differ. \n \nGet the Lunch Saver Meal Online Deal for delivery\nLunch is when the hunger comes\, whether it’s 11 o’clock or 1 o’clock! Our Lunch Saver Meal is here to save the day\, and your budget. Enjoy any one of our delicious Medium Pizzas and a Buddy Coke for only R89.90. Exclusively available online. Order via our website or the Debonairs Pizza app now. \nORDER NOW
URL:https://local-info.co.za/event/debonairs-our-amazing-pizza-specials-9/
LOCATION:DEBONAIRS\, Knysna : 50 Main Rd / Voorbaai : Louis Fourie Road / Mossel Bay : Bayview Centre.\, Knysna / Mossel Bay\, Western Cape\, South Africa
CATEGORIES:Garden Route,Knysna,Mossel Bay,Specials
ATTACH;FMTTYPE=image/webp:https://local-info.co.za/wp-content/uploads/2024/11/pizza-wraps-header.webp
END:VEVENT
BEGIN:VEVENT
DTSTART;TZID=Africa/Johannesburg:20241106T090000
DTEND;TZID=Africa/Johannesburg:20241130T213000
DTSTAMP:20260423T011223
CREATED:20241106T090046Z
LAST-MODIFIED:20241106T090138Z
UID:20865-1730883600-1733002200@local-info.co.za
SUMMARY:Steers Real Promos!
DESCRIPTION:WACKY WEDNESDAY\n\n\n\n\nBuy one burger and get one free—because\, let’s face it\, one is never enough. Order our Wacky Wednesday special and enjoy two delicious burgers for only R59.90. Enjoy both on a solo date or share with someone from your squad. \n \n\n\nMjojo Cheese Burger Meal\n\n\n\n\nWhat’s the easiest way to have a Mjojo summer? Grab a lunch that passes the vibe check – The MjojoTM Cheese Burger Meal. Enjoy a burger with 100% ground beef patty topped with cheese\, grilled pineapple\, and bacon for R84.90. \nBut what’s summer without a little treat? Add a Classic Ice Cream Cone for R5 to enjoy real flavour with your ice cream. \n \n\n\nFull Chicken & Large Chips\n\n\n\n\nA good meal just hits different when you’re with your crew. You could order one of everything and share\, but that’s how you get those moments where ‘I’m not hungry’ turns into ‘can I have some of yours?’. When the squad gets together\, make sure there’s enough to go around. Grab a Full Chicken & Large Chips\, available in BBQ\, Lemon & Herb\, Mild & Hot flavours. \nORDER NOW \n. \nCLICK HERE TO VISIT OUR VOORBAAI  (MOSSEL BAY)BRANCH \nCLICK HERE TO VISIT OUR KNYSNA BRANCH \nCLICK HERE TO VISIT OUR SEDGEFIELD BRANCH \nCLICK HERE TO VISIT OUR MOSSEL BAY BRANCH \n 
URL:https://local-info.co.za/event/steers-real-promos-4-8/
LOCATION:Western Cape
CATEGORIES:Garden Route,Knysna,Mossel Bay,Sedgefield,Specials
ATTACH;FMTTYPE=image/png:https://local-info.co.za/wp-content/uploads/2024/11/ww-desktop-image.png
END:VEVENT
END:VCALENDAR