BEGIN:VCALENDAR
VERSION:2.0
PRODID:-//Local-Info.co.za - ECPv6.15.20//NONSGML v1.0//EN
CALSCALE:GREGORIAN
METHOD:PUBLISH
X-ORIGINAL-URL:https://local-info.co.za
X-WR-CALDESC:Events for Local-Info.co.za
REFRESH-INTERVAL;VALUE=DURATION:PT1H
X-Robots-Tag:noindex
X-PUBLISHED-TTL:PT1H
BEGIN:VTIMEZONE
TZID:Africa/Johannesburg
BEGIN:STANDARD
TZOFFSETFROM:+0200
TZOFFSETTO:+0200
TZNAME:SAST
DTSTART:20230101T000000
END:STANDARD
END:VTIMEZONE
BEGIN:VEVENT
DTSTART;TZID=Africa/Johannesburg:20241007T093000
DTEND;TZID=Africa/Johannesburg:20241031T213000
DTSTAMP:20260423T011147
CREATED:20241007T103410Z
LAST-MODIFIED:20241007T103410Z
UID:20314-1728293400-1730410200@local-info.co.za
SUMMARY:Steers Real Promos!
DESCRIPTION:WACKY WEDNESDAY\n\n\n\n\nWhen it comes to doing the most\, nobody does it like us. That’s why we took the best midweek burger special and made it even better. The Flame-Grilled flavour of the Wacky Wednesday now has the delicious taste of mustard. Find a Steers® near you and grab TWO burgers for only R59.90. \n\n\nORDER NOW \n  \n \n\n\nPhanda® Cheesy Bacon Burger Meal from Steers®\n\n\n\n\nIt’s time to fill up with a burger meal that has stacks and stacks of flavour. It’s the NEW Phanda® Cheesy Bacon Burger Meal from Steers®. For just R39.90\, you get to enjoy a burger with tasty bacon\, delicious cheese sauce\, the classic Flame-Grilled patty you love and a small portion of our Famous Hand-Cut chips. But here’s the Real treat: add a Classic Ice Cream Cone to your meal for just R5. \n \n\n\n¼ CHICKEN MEAL FROM STEERS®\n\n\n\n\nChicken for lunch is a no-brainer. And our ¼ Chicken Meal for only R49.90 always makes sense. Step up and try our NEW BBQ chicken\, it’s where Real flavour meets Real value. You + this deal = Flame-Grilled goodness every day. Get to a Steers® near you to enjoy a leg up on lunch. It’s a Real good meal for a Real great price. \nORDER NOW \n. \nCLICK HERE TO VISIT OUR VOORBAAI  (MOSSEL BAY)BRANCH \nCLICK HERE TO VISIT OUR KNYSNA BRANCH \nCLICK HERE TO VISIT OUR SEDGEFIELD BRANCH \nCLICK HERE TO VISIT OUR MOSSEL BAY BRANCH
URL:https://local-info.co.za/event/steers-real-promos-4-7/
LOCATION:STEERS – SEDGEFIELD / KNYSNA / MOSSEL BAY\, South Africa
CATEGORIES:Garden Route,George,Knysna,Mossel Bay,Sedgefield
ATTACH;FMTTYPE=image/png:https://local-info.co.za/wp-content/uploads/2024/10/ww-desktop.png
END:VEVENT
BEGIN:VEVENT
DTSTART;TZID=Africa/Johannesburg:20241007T093000
DTEND;TZID=Africa/Johannesburg:20241031T213000
DTSTAMP:20260423T011147
CREATED:20241007T113957Z
LAST-MODIFIED:20241007T113957Z
UID:20321-1728293400-1730410200@local-info.co.za
SUMMARY:Debonairs – Our Amazing Pizza Specials!
DESCRIPTION:NOT JUST A PIZZA SPECIAL – IT’S A BIIIG DEAL\nFrom “YOH-YOH” to “HEBANA” – a FREE Energade® + BIIIG Small Triple-Decker® pizza for just R79.90 will get a BIIIG reaction out of you. This amazing lunch deal is the only choice when you want to go big for lunch without blowing your budget. We’re talking 3 layers\, 3 cheeses\, and 4 flavours to choose from: Meaty\, Creamy Chicken\, Sweet Chilli Chicken & Veggie. The BIIIG Small Triple-Decker® + FREE Energade® for just R79.90! It’s giving OMG! \nTs&Cs\nTs&Cs apply. Offer includes one small (19cm) Triple-Decker® pizza from the following flavour selection only: Meaty; Creamy Chicken; Sweet Chilli Chicken or Veggie\, and one free Energade® (500ml) drink available in Blueberry or Naartjie. While stocks last. No substitutes on products offered. Visit debonairspizza.co.za for nutritional information. 3 rd party prices may differ. \n \nSCORE BIG WITH THE DREAM TEAM 3 PIZZA SPECIAL!\nPut hunger on the sidelines with the Dream Team 3 pizza special. When they ask what’s for lunch or dinner\, make the winning play with 3 medium pizzas from a choice of 6 winning flavours for just R179.90 (that’s only R60 per pizza). It’s a pizza special made for family\, family friends\, or friends you call family. Get in the game and satisfy everyone’s cravings with the Dream Team 3. \nChoose your Dream Team 3\nWhen you’re with the dream team\, you need a sharing meal that’s always a winner. The Dream Team 3 is the one\, no matter who’s in your lunch or dinner squad. Need some help with your winning lineup? Here are some suggestions to help you pick the ultimate Dream Team 3. \n \nTs&Cs\nTs&Cs apply. Offer includes three medium (23cm) pizzas from the following flavour selection only: Hawaiian; Chicken & Mushroom; Sweet Chill Chicken; Barbeque Chicken & Mushroom; Original Veggie and Mexican Fiesta. While stocks Last. No substitutes on products offered. Visit debonairspizza.co.za for nutritional information. 3 rd party prices may differ. \n \nGet the Lunch Saver Meal Online Deal for delivery\nLunch is when the hunger comes\, whether it’s 11 o’clock or 1 o’clock! Our Lunch Saver Meal is here to save the day\, and your budget. Enjoy any one of our delicious Medium Pizzas and a Buddy Coke for only R89.90. Exclusively available online. Order via our website or the Debonairs Pizza app now. \nORDER NOW
URL:https://local-info.co.za/event/debonairs-our-amazing-pizza-specials-8/
LOCATION:DEBONAIRS\, Knysna : 50 Main Rd / Voorbaai : Louis Fourie Road / Mossel Bay : Bayview Centre.\, Knysna / Mossel Bay\, Western Cape\, South Africa
CATEGORIES:Garden Route,Knysna,Mossel Bay
ATTACH;FMTTYPE=image/webp:https://local-info.co.za/wp-content/uploads/2024/10/small-triple-decker-with-drink-january-promo-web-desktop-header-1632x552-1.webp
END:VEVENT
BEGIN:VEVENT
DTSTART;TZID=Africa/Johannesburg:20241022T080000
DTEND;TZID=Africa/Johannesburg:20241031T170000
DTSTAMP:20260423T011147
CREATED:20241022T103659Z
LAST-MODIFIED:20241022T103659Z
UID:20677-1729584000-1730394000@local-info.co.za
SUMMARY:Power Up with Solar Savings! Special Deals at True Solar Garden Route (PTY) Ltd!
DESCRIPTION:Switch to solar today and take advantage of our unbeatable specials on solar panels\, inverters\, and batteries. At True Solar Garden Route\, we offer high-quality Sunsynk inverters and expert installation services that will reduce your energy bills and keep your home powered through any outage. Whether you’re looking to go completely off-grid or just want to save on electricity\, our tailored solar solutions are designed to meet your needs. Contact us now to find out how you can start saving with solar! \nClick here to view our Web Page!
URL:https://local-info.co.za/event/power-up-with-solar-savings-special-deals-at-true-solar-garden-route-pty-ltd/
LOCATION:True Solar Garden Route (PTY) Ltd\, Hoepoe Avenue\, Sedgefield\, South Africa\, Sedgefield\, Western Cape\, 6572\, South Africa
CATEGORIES:Garden Route,George,Great Brak,Hartenbos,Knysna,Mossel Bay,Plettenberg Bay,Wilderness
ATTACH;FMTTYPE=image/png:https://local-info.co.za/wp-content/uploads/2024/09/Power-up-with-solar-savings_20241022_112455_0000.png
END:VEVENT
END:VCALENDAR