BEGIN:VCALENDAR
VERSION:2.0
PRODID:-//Local-Info.co.za - ECPv6.15.20//NONSGML v1.0//EN
CALSCALE:GREGORIAN
METHOD:PUBLISH
X-WR-CALNAME:Local-Info.co.za
X-ORIGINAL-URL:https://local-info.co.za
X-WR-CALDESC:Events for Local-Info.co.za
REFRESH-INTERVAL;VALUE=DURATION:PT1H
X-Robots-Tag:noindex
X-PUBLISHED-TTL:PT1H
BEGIN:VTIMEZONE
TZID:Africa/Johannesburg
BEGIN:STANDARD
TZOFFSETFROM:+0200
TZOFFSETTO:+0200
TZNAME:SAST
DTSTART:20230101T000000
END:STANDARD
END:VTIMEZONE
BEGIN:VEVENT
DTSTART;TZID=Africa/Johannesburg:20240702T093000
DTEND;TZID=Africa/Johannesburg:20240731T213000
DTSTAMP:20260423T074546
CREATED:20240702T143047Z
LAST-MODIFIED:20240702T143047Z
UID:19859-1719912600-1722461400@local-info.co.za
SUMMARY:Our Amazing Pizza Specials
DESCRIPTION:NOT JUST A PIZZA SPECIAL – IT’S A BIIIG DEAL\nFrom “YOH-YOH” to “HEBANA” – a FREE Energade® + BIIIG Small Triple-Decker® pizza for just R79.90 will get a BIIIG reaction out of you. This amazing lunch deal is the only choice when you want to go big for lunch without blowing your budget. We’re talking 3 layers\, 3 cheeses\, and 4 flavours to choose from: Meaty\, Creamy Chicken\, Sweet Chilli Chicken & Veggie. The BIIIG Small Triple-Decker® + FREE Energade® for just R79.90! It’s giving OMG! \nTs&Cs\nTs&Cs apply. Offer includes one small (19cm) Triple-Decker® pizza from the following flavour selection only: Meaty; Creamy Chicken; Sweet Chilli Chicken or Veggie\, and one free Energade® (500ml) drink available in Blueberry or Naartjie. While stocks last. No substitutes on products offered. Visit debonairspizza.co.za for nutritional information. 3 rd party prices may differ. \nORDER NOW! \n \nSCORE BIG WITH THE DREAM TEAM 3 PIZZA SPECIAL!\nPut hunger on the sidelines with the Dream Team 3 pizza special. When they ask what’s for lunch or dinner\, make the winning play with 3 medium pizzas from a choice of 6 winning flavours for just R179.90 (that’s only R60 per pizza). It’s a pizza special made for family\, family friends\, or friends you call family. Get in the game and satisfy everyone’s cravings with the Dream Team 3. \nChoose your Dream Team 3\nWhen you’re with the dream team\, you need a sharing meal that’s always a winner. The Dream Team 3 is the one\, no matter who’s in your lunch or dinner squad. Need some help with your winning lineup? Here are some suggestions to help you pick the ultimate Dream Team 3. \n \nTs&Cs\nTs&Cs apply. Offer includes three medium (23cm) pizzas from the following flavour selection only: Hawaiian; Chicken & Mushroom; Sweet Chill Chicken; Barbeque Chicken & Mushroom; Original Veggie and Mexican Fiesta. While stocks Last. No substitutes on products offered. Visit debonairspizza.co.za for nutritional information. 3 rd party prices may differ. \nORDER NOW! \n \nGet the Lunch Saver Meal Online Deal for delivery\nLunch is when the hunger comes\, whether it’s 11 o’clock or 1 o’clock! Our Lunch Saver Meal is here to save the day\, and your budget. Enjoy any one of our delicious Medium Pizzas and a Buddy Coke for only R89.90. Exclusively available online. Order via our website or the Debonairs Pizza app now. \nORDER NOW! \n  \nCLICK HERE TO VIEW OUR KNYSNA WEB PAGE \nCLICK HERE TO VIEW OUR MOSSEL BAY WEB PAGE \nCLICK HERE TO VIEW OUR VOORBAAI (MOSSEL BAY) WEB PAGE
URL:https://local-info.co.za/event/our-amazing-pizza-specials/
LOCATION:DEBONAIRS\, Knysna : 50 Main Rd / Voorbaai : Louis Fourie Road / Mossel Bay : Bayview Centre.\, Knysna / Mossel Bay\, Western Cape\, South Africa
CATEGORIES:Garden Route,Knysna,Mossel Bay
ATTACH;FMTTYPE=image/webp:https://local-info.co.za/wp-content/uploads/2024/07/small-triple-decker-and-drink-header.webp
END:VEVENT
END:VCALENDAR