BEGIN:VCALENDAR
VERSION:2.0
PRODID:-//Local-Info.co.za - ECPv6.15.20//NONSGML v1.0//EN
CALSCALE:GREGORIAN
METHOD:PUBLISH
X-WR-CALNAME:Local-Info.co.za
X-ORIGINAL-URL:https://local-info.co.za
X-WR-CALDESC:Events for Local-Info.co.za
REFRESH-INTERVAL;VALUE=DURATION:PT1H
X-Robots-Tag:noindex
X-PUBLISHED-TTL:PT1H
BEGIN:VTIMEZONE
TZID:Africa/Johannesburg
BEGIN:STANDARD
TZOFFSETFROM:+0200
TZOFFSETTO:+0200
TZNAME:SAST
DTSTART:20230101T000000
END:STANDARD
END:VTIMEZONE
BEGIN:VEVENT
DTSTART;TZID=Africa/Johannesburg:20240606T093000
DTEND;TZID=Africa/Johannesburg:20240630T213000
DTSTAMP:20260423T091017
CREATED:20240606T132824Z
LAST-MODIFIED:20240606T132824Z
UID:19686-1717666200-1719783000@local-info.co.za
SUMMARY:Steers Real Promos!
DESCRIPTION:WACKY WEDNESDAY\n\n\n\n\nWhen it comes to doing the most\, nobody does it like us. That’s why we took the best midweek burger special and made it even better. The Flame-Grilled flavour of the Wacky Wednesday now has the delicious taste of mustard. Find a Steers® near you and grab TWO burgers for only R59.90. \nORDER NOW \n \n\n\nYA’VAYA™ BURGER MEAL\n\n\n\n\nFeeling like an amazing burger that won’t blow your budget? Try the Ya’Vaya™ Burger Meal for only R49.90 at Steers®. With all the fresh ingredients you can get: two 100% Grounded beef patties\, BBQ sauce\, lettuce\, dill and cheese. \nORDER NOW \n\n \n\n\nREAL CHICKEN FEAST FROM STEERS®\n\n\n\n\nOur NEW Real Chicken Feast brings everyone to the table for only R199.90. It’s a meal everyone you call family will love. Put out this Flame-Grilled full chicken with a large portion of our Famous Hand-Cut Chips\, and 4 fresh mini loaves and they will come. \nORDER NOW \n \n\n\nSTEERS® FLAME-GRILLED ¼ CHICKEN MEAL\n\n\n\n\nWhen it comes to Flame-Grilled flavour\, we bring nothing but the best. This time we bring real taste and real value with our delicious ¼ Chicken meal that’s only R49.90. Grab it today! \nORDER NOW \n. \nCLICK HERE TO VISIT OUR VOORBAAI  (MOSSEL BAY)BRANCH \nCLICK HERE TO VISIT OUR KNYSNA BRANCH \nCLICK HERE TO VISIT OUR SEDGEFIELD BRANCH \nCLICK HERE TO VISIT OUR MOSSEL BAY BRANCH
URL:https://local-info.co.za/event/steers-real-promos-4-3/
LOCATION:STEERS – SEDGEFIELD / KNYSNA / MOSSEL BAY\, South Africa
CATEGORIES:Garden Route,Knysna,Mossel Bay,Sedgefield
ATTACH;FMTTYPE=image/png:https://local-info.co.za/wp-content/uploads/2024/06/ww-desktop.png
END:VEVENT
END:VCALENDAR