BEGIN:VCALENDAR
VERSION:2.0
PRODID:-//Local-Info.co.za - ECPv6.15.20//NONSGML v1.0//EN
CALSCALE:GREGORIAN
METHOD:PUBLISH
X-ORIGINAL-URL:https://local-info.co.za
X-WR-CALDESC:Events for Local-Info.co.za
REFRESH-INTERVAL;VALUE=DURATION:PT1H
X-Robots-Tag:noindex
X-PUBLISHED-TTL:PT1H
BEGIN:VTIMEZONE
TZID:Africa/Johannesburg
BEGIN:STANDARD
TZOFFSETFROM:+0200
TZOFFSETTO:+0200
TZNAME:SAST
DTSTART:20230101T000000
END:STANDARD
END:VTIMEZONE
BEGIN:VEVENT
DTSTART;TZID=Africa/Johannesburg:20240506T093000
DTEND;TZID=Africa/Johannesburg:20240531T213000
DTSTAMP:20260423T112227
CREATED:20240506T130533Z
LAST-MODIFIED:20240506T130534Z
UID:19446-1714987800-1717191000@local-info.co.za
SUMMARY:Debonairs - Our Amazing Pizza Specials!
DESCRIPTION:AN AMAZING PIZZA SPECIAL FOR AMAZING SOUTH AHH\nFellow South Africans\, here’s an amazing pizza deal made for amazing South Ahh – a Real Deal* pizza and Coke® for only R39.90. When it comes to doing extraordinary things\, South Ahh you always bring it! You deserve a lunch that’s as extraordinary as you. Do lunch right with South Ahh’s most amazing lunch special. \n \nLARGE TRIPLE-DECKER® PIZZA SPECIAL\nWhether you’re rummaging through boxes of your childhood toy collection or unboxing your latest online shopping haul\, make the last box you open the most amazing with the large Triple-Decker® pizza special. Unbox triple the taste\, triple the value\, triple the fun for just R189.90 when you order online for delivery. Creamy Chicken Triple-Decker®\, Sweet Chilli Chicken\, or Meaty – the choice is yours. \n \nGet the Lunch Saver Meal Online Deal for delivery\nLunch is when the hunger comes\, whether it’s 11 o’clock or 1 o’clock! Our Lunch Saver Meal is here to save the day\, and your budget. Enjoy any one of our delicious Medium Pizzas and a Buddy Coke for only R89.90. Exclusively available online. Order via our website or the Debonairs Pizza app now
URL:https://local-info.co.za/event/debonairs-our-amazing-pizza-specials-4/
LOCATION:DEBONAIRS\, Knysna : 50 Main Rd / Voorbaai : Louis Fourie Road / Mossel Bay : Bayview Centre.\, Knysna / Mossel Bay\, Western Cape\, South Africa
CATEGORIES:Garden Route,Knysna,Mossel Bay
ATTACH;FMTTYPE=image/webp:https://local-info.co.za/wp-content/uploads/2024/05/real-deal-and-drink-header.webp
END:VEVENT
END:VCALENDAR