BEGIN:VCALENDAR
VERSION:2.0
PRODID:-//Local-Info.co.za - ECPv6.15.20//NONSGML v1.0//EN
CALSCALE:GREGORIAN
METHOD:PUBLISH
X-WR-CALNAME:Local-Info.co.za
X-ORIGINAL-URL:https://local-info.co.za
X-WR-CALDESC:Events for Local-Info.co.za
REFRESH-INTERVAL;VALUE=DURATION:PT1H
X-Robots-Tag:noindex
X-PUBLISHED-TTL:PT1H
BEGIN:VTIMEZONE
TZID:Africa/Johannesburg
BEGIN:STANDARD
TZOFFSETFROM:+0200
TZOFFSETTO:+0200
TZNAME:SAST
DTSTART:20220101T000000
END:STANDARD
END:VTIMEZONE
BEGIN:VEVENT
DTSTART;TZID=Africa/Johannesburg:20231205T093000
DTEND;TZID=Africa/Johannesburg:20240115T213000
DTSTAMP:20260425T182114
CREATED:20231205T081159Z
LAST-MODIFIED:20231205T081159Z
UID:17952-1701768600-1705354200@local-info.co.za
SUMMARY:Debonairs Pizza Promotions
DESCRIPTION:LIVE THE SOFT LIFE WITH 2 LARGE REAL DEAL PIZZAS\nIt’s Giving Soft Life when you and your faves can do the most for lunch\, while spending less. Get 2 Large Real Deal pizzas at the special price of R149.90 & share an amazing meal that will have you feeling AMAZING about your spending 🍕 \nORDER NOW \nTs&Cs\nTs&Cs apply. While stocks last. No substitutes on products offered. Size and appearance may vary. Offer available for in-store purchases (and collect) only from 14 November 2023 to 15 January 2024. *Real Deal conditions apply: offer includes two large (30cm) pizzas from the following flavour selection only: BBQ Chicken and BBQ Beef. Not available for delivery orders. Offer available subject to availability and dates may be reduced or extended. Visit www.debonairspizza.co.za for nutritional information. All prices are quoted in Rands and include VAT. \n \nOn The Triple pizza delivery deal\nThe best thing about the festive season? Finally getting to see the whole family after a year of making plans. Make the most of your time together with the On The Triple for only R269.80. It’s a feast fit for the family. \nORDER NOW \n*Ts&Cs\nOn The Triple® conditions apply: Offer includes three large (30cm) pizzas from the following flavour selection only: BBQ Bacon; Pepperoni & Olive; Spicy Chicken; Debonairs Chicken; Sweet & Sour Rib and Creamy Tikka Veg. On The Triple® pizzas made with original base only (unless specified otherwise). Offer available for in-store purchases (and collect) only from 14 November 2023 to 15 January 2024. Offer available subject to availability and dates may be reduced or extended. On The Triple® prices are applicable to delivery purchases only and pizzas are not sold individually for delivery. No substitutes on products offered. Tableware not included. All prices are quoted in Rands and include VAT. \n \nShare the joy with everyone’s fave\nLevel up those summer chillas into amazing feasts this festive with the Cram-Decker® Feast! That’s 2 large Cram-Decker® pizzas\, available in Chicken or Meaty\, for just R399.90! Save R39.90. Share the joy this festive season. \nORDER NOW \n. \nCLICK HERE TO VISIT OUR KNYSNA BRANCH \nCLICK HERE TO VISIT OUR MOSSEL BAY BRANCH \nCLICK HERE TO VISIT OUR VOORBAAI (MOSSEL BAY) BRANCH
URL:https://local-info.co.za/event/debonairs-pizza-promotions-6/
LOCATION:DEBONAIRS\, Knysna : 50 Main Rd / Voorbaai : Louis Fourie Road / Mossel Bay : Bayview Centre.\, Knysna / Mossel Bay\, Western Cape\, South Africa
CATEGORIES:Garden Route,Knysna,Mossel Bay
ATTACH;FMTTYPE=image/webp:https://local-info.co.za/wp-content/uploads/2023/12/large-real-header.webp
END:VEVENT
END:VCALENDAR