BEGIN:VCALENDAR
VERSION:2.0
PRODID:-//Local-Info.co.za - ECPv6.15.20//NONSGML v1.0//EN
CALSCALE:GREGORIAN
METHOD:PUBLISH
X-ORIGINAL-URL:https://local-info.co.za
X-WR-CALDESC:Events for Local-Info.co.za
REFRESH-INTERVAL;VALUE=DURATION:PT1H
X-Robots-Tag:noindex
X-PUBLISHED-TTL:PT1H
BEGIN:VTIMEZONE
TZID:Africa/Johannesburg
BEGIN:STANDARD
TZOFFSETFROM:+0200
TZOFFSETTO:+0200
TZNAME:SAST
DTSTART:20220101T000000
END:STANDARD
END:VTIMEZONE
BEGIN:VEVENT
DTSTART;TZID=Africa/Johannesburg:20231109T093000
DTEND;TZID=Africa/Johannesburg:20231130T213000
DTSTAMP:20260425T182307
CREATED:20231109T091132Z
LAST-MODIFIED:20231109T091132Z
UID:17818-1699522200-1701379800@local-info.co.za
SUMMARY:Steers Promotions!
DESCRIPTION:SUMMER JUST GOT LIT NEW MO’MJOJOTM BURGER\n\n\n\n\nLooking to keep the vibe mjojo all summer long? There’s no better way to ignite your taste buds and elevate your summer game than by sinking your teeth into the NEW Mo’MjojoTM Burger meal. Every Flame-Grilled bite unlocks the Real flavour of summer days out in the sun. Summer is calling\, and it’s saying “NEW Mo’MjojoTM Burger meal all the way!” \nORDER NOW \n \n\n\n\nSTEERS® FLAME-GRILLED FULL CHICKEN\n\n\n\n\nMake dinner with the fam a vibe that’ll make everybody smile. Grab a Flame-Grilled Full Chicken meal for only R169.90 from a Steers® near you. Now everyone can enjoy Real flavour. \nORDER NOW \n \n\n\nNEW WACKY WEDNESDAY\n\n\n\n\nWhen it comes to doing the most\, nobody does it like us. That’s why we took the best midweek burger special and made it even better. The Flame-Grilled flavour of the Wacky Wednesday now has the delicious taste of mustard. Find a Steers® near you and grab TWO burgers for only R59.90. \nORDER NOW \n \n\n\nSTEERS® ¼ CHICKEN & CHIPS MEAL\n\n\n\n\nGetting lunch on a budget? Then our Flame-Grilled ¼ Chicken is the best way to make sure you get a meal that’s filling and packed with flavour. Come through to Steers® and enjoy it for only R49.90. \nORDER NOW \nCLICK HERE TO VISIT OUR VOORBAAI  (MOSSEL BAY)BRANCH \nCLICK HERE TO VISIT OUR KNYSNA BRANCH \nCLICK HERE TO VISIT OUR SEDGEFIELD BRANCH \nCLICK HERE TO VISIT OUR MOSSEL BAY BRANCH
URL:https://local-info.co.za/event/steers-promotions-3/
LOCATION:STEERS – SEDGEFIELD / KNYSNA / MOSSEL BAY\, South Africa
CATEGORIES:Garden Route,Knysna,Mossel Bay,Sedgefield,Specials
ATTACH;FMTTYPE=image/png:https://local-info.co.za/wp-content/uploads/2023/11/mo-mjojo-desktop-slider-image.png
END:VEVENT
END:VCALENDAR