BEGIN:VCALENDAR
VERSION:2.0
PRODID:-//Local-Info.co.za - ECPv6.15.20//NONSGML v1.0//EN
CALSCALE:GREGORIAN
METHOD:PUBLISH
X-ORIGINAL-URL:https://local-info.co.za
X-WR-CALDESC:Events for Local-Info.co.za
REFRESH-INTERVAL;VALUE=DURATION:PT1H
X-Robots-Tag:noindex
X-PUBLISHED-TTL:PT1H
BEGIN:VTIMEZONE
TZID:Africa/Johannesburg
BEGIN:STANDARD
TZOFFSETFROM:+0200
TZOFFSETTO:+0200
TZNAME:SAST
DTSTART:20220101T000000
END:STANDARD
END:VTIMEZONE
BEGIN:VEVENT
DTSTART;TZID=Africa/Johannesburg:20230807T093000
DTEND;TZID=Africa/Johannesburg:20230831T213000
DTSTAMP:20260426T001455
CREATED:20230807T071732Z
LAST-MODIFIED:20230808T082039Z
UID:16852-1691400600-1693517400@local-info.co.za
SUMMARY:Debonairs Pizza Promotions
DESCRIPTION:NEW Real Deal* pizza special: Do the most for only R29.90.\nIntroducing the NEW BBQ Real Deal* range for the special price of only R29.90 from Debonairs Pizza. It’s a lunchtime gamechanger! Available in three amazing flavours: BBQ Chicken\, BBQ Beef\, and BBQ Rib. \nTs&Cs\nOffer includes one small (19cm) pizza from the selected flavours only. The Real Deal is not available for delivery orders. Meal It prices not available for delivery orders. ®Coca-Cola\, the Dynamic Ribbon Device and Coke are registered trademarks of The Coca-Cola Company © 2023. Full nutritional information is available on debonairspizza.co.za. \nORDER NOW \n \nLARGE TRIPLE-DECKER® PIZZA SPECIAL\nPrepare for an unboxing experience like no other! Unbox something amazing with 3 layers and 3 cheeses with the Large Triple-Decker® for just R189.90. Our Large Triple-Decker® promotion is the perfect dinner idea for any family! Order online for an amazing pizza delivery near you. \n*Ts&Cs\nWhile stocks last. Offer includes one large (30cm) Triple-Decker® pizza from the following flavour selection: Meaty\, Creamy Chicken and Sweet Chilli Chicken: 1 August – 30 October 2023. Full nutritional information is available on debonairspizza.co.za. Delivery Ts&Cs apply. Full Delivery Ts&Cs available on debonairspizza.co.za. \nORDER NOW \n \nFam Feast\nWhen you find yourself hosting a family chillas with abomzala\, makhi and skwiza\, get something everyone will love. Get the Fam Feast for only R384.90 and Save R44\,80! With 2x Large Triple-Deckers® and a 1.5L Drink\, there’s more than enough of everyone’s fave pizza to go around. \nPlus\, by ordering online you save on this great online food deal! So when everyone comes over to your place\, get this exclusive online deal from your local Debonairs Pizza. Order online via the Debonairs Pizza app or website for an amazing pizza delivery. \nORDER NOW \n. \nCLICK HERE TO VISIT OUR KNYSNA BRANCH \nCLICK HERE TO VISIT OUR MOSSEL BAY BRANCH \nCLICK HERE TO VISIT OUR VOORBAAI (MOSSEL BAY) BRANCH \n  \n 
URL:https://local-info.co.za/event/debonairs-pizza-promotions-3/
LOCATION:DEBONAIRS\, Knysna : 50 Main Rd / Voorbaai : Louis Fourie Road / Mossel Bay : Bayview Centre.\, Knysna / Mossel Bay\, Western Cape\, South Africa
CATEGORIES:Garden Route,Knysna,Mossel Bay
ATTACH;FMTTYPE=image/webp:https://local-info.co.za/wp-content/uploads/2023/08/real-deal-value-header.webp
END:VEVENT
BEGIN:VEVENT
DTSTART;TZID=Africa/Johannesburg:20230808T080000
DTEND;TZID=Africa/Johannesburg:20230831T170000
DTSTAMP:20260426T001455
CREATED:20230808T123327Z
LAST-MODIFIED:20230808T124007Z
UID:16907-1691481600-1693501200@local-info.co.za
SUMMARY:Steers Promotions!
DESCRIPTION:Nothing is more Mzansi than that boerewors flavour\, it’s most definitely everyone’s favourite. \nWhether you’re at the office\, chilling at home or going on a trip\, vibe with local flavour with our NEW Freshe Boerie Burger meal. \nFor only R49.90\, you can now get that delicious Flame-Grilled local flavour\, whenever the craving’s got you\, wherever you’re vibing. \n \n \n\n \nThere’s only one burger special to keep the midweek flame going. Whether you’re trying to grab a quick bite with your mate or you just have a larger than life appetite\, the NEW Wacky Wednesday is exactly what you need. \nGet TWO flame-grilled burgers for only R59.90. Monday’s got the blues\, Tuesday ain’t that great either\, but Wednesday? Well\, Wednesday is just #2Nice #WackyWednesday \n \n \n\n \nOur My Size™ Combo is here to keep the fire burning with that winning Flame-Grilled flavour we always bring. Whether you’re cheering on rugby that rocks or enjoying your own vibe\, start your week with a meal that is perfect for both lunch and dinner. Grab a delicious My Size™ burger & chips with a 300ml Buddy for only R49.90 available only on Mondays from a Steers® near you. \n \n \nCLICK HERE TO VISIT OUR VOORBAAI  (MOSSEL BAY)BRANCH \nCLICK HERE TO VISIT OUR KNYSNA BRANCH \nCLICK HERE TO VISIT OUR SEDGEFIELD BRANCH \nCLICK HERE TO VISIT OUR MOSSEL BAY BRANCH \n  \n 
URL:https://local-info.co.za/event/steers-promotions/
LOCATION:STEERS – SEDGEFIELD / KNYSNA / MOSSEL BAY\, South Africa
CATEGORIES:Garden Route,Knysna,Mossel Bay,Sedgefield
ATTACH;FMTTYPE=image/webp:https://local-info.co.za/wp-content/uploads/2023/08/1972411.webp
END:VEVENT
END:VCALENDAR