BEGIN:VCALENDAR
VERSION:2.0
PRODID:-//Local-Info.co.za - ECPv6.15.20//NONSGML v1.0//EN
CALSCALE:GREGORIAN
METHOD:PUBLISH
X-WR-CALNAME:Local-Info.co.za
X-ORIGINAL-URL:https://local-info.co.za
X-WR-CALDESC:Events for Local-Info.co.za
REFRESH-INTERVAL;VALUE=DURATION:PT1H
X-Robots-Tag:noindex
X-PUBLISHED-TTL:PT1H
BEGIN:VTIMEZONE
TZID:Africa/Johannesburg
BEGIN:STANDARD
TZOFFSETFROM:+0200
TZOFFSETTO:+0200
TZNAME:SAST
DTSTART:20220101T000000
END:STANDARD
END:VTIMEZONE
BEGIN:VEVENT
DTSTART;TZID=Africa/Johannesburg:20230706T110000
DTEND;TZID=Africa/Johannesburg:20230731T203000
DTSTAMP:20260426T014546
CREATED:20230706T102512Z
LAST-MODIFIED:20230706T102512Z
UID:16377-1688641200-1690835400@local-info.co.za
SUMMARY:Our Amazing Promotions - Debonairs Pizza
DESCRIPTION:SMALL REAL DEAL – CHOOSE FROM 6 AMAZING FLAVOURS\nWhen the day calls for a quick lunch break to keep you going\, don’t go for less\, go for amazing. Get to a Debonairs Pizza near you to order yourself one of our delicious Small Real Deal pizzas for only R34.90. It’s so affordable that you’ll never have to pretend like your wallet is dololo. \nYou can choose your fave from these 6 amazing flavours: BBQ Bacon; Pepperoni & Olive; Spicy Chicken; Debonairs Pizza Chicken; Sweet & Sour Rib and Creamy Tikka Veg. Add a Buddy Coke or 330ml Cappy Fruit Juice Blend to your Small Real Deal pizza\, uShay’iMeal that’s only R52.80. \nORDER NOW \n \n  \n\nLARGE CRAM DECKER SHARING MEAL\nWe’ve got a sharing meal that has an amazing slice for everyone. With three delicious layers\, three cheeses & a crust crammed with two chicken cheese grillers for the special price of R199.90. This is definitely one of the best pizza deals that you will need a team to finish! So\, what are you waiting for? Order Now! \nORDER NOW\n\n\n\n\nLunch Saver Online Promo Deal\nLunch is when the hunger comes\, whether it’s 11 o’clock or 1 o’clock! Our Lunch Saver Meal is here to save the day\, and your budget. Enjoy any one of our delicious Medium Pizzas and a Buddy Coke for only R94.90. Exclusively available online. Order via our website or the Debonairs Pizza app now. \nORDER NOW \n\n  \n 
URL:https://local-info.co.za/event/our-amazing-promotions-debonairs-pizza/
LOCATION:DEBONAIRS\, Knysna : 50 Main Rd / Voorbaai : Louis Fourie Road / Mossel Bay : Bayview Centre.\, Knysna / Mossel Bay\, Western Cape\, South Africa
CATEGORIES:Garden Route,Knysna,Mossel Bay
ATTACH;FMTTYPE=image/webp:https://local-info.co.za/wp-content/uploads/2023/07/small-real-deal-promo-header.webp
END:VEVENT
END:VCALENDAR