BEGIN:VCALENDAR
VERSION:2.0
PRODID:-//Local-Info.co.za - ECPv6.15.20//NONSGML v1.0//EN
CALSCALE:GREGORIAN
METHOD:PUBLISH
X-WR-CALNAME:Local-Info.co.za
X-ORIGINAL-URL:https://local-info.co.za
X-WR-CALDESC:Events for Local-Info.co.za
REFRESH-INTERVAL;VALUE=DURATION:PT1H
X-Robots-Tag:noindex
X-PUBLISHED-TTL:PT1H
BEGIN:VTIMEZONE
TZID:Africa/Johannesburg
BEGIN:STANDARD
TZOFFSETFROM:+0200
TZOFFSETTO:+0200
TZNAME:SAST
DTSTART:20220101T000000
END:STANDARD
END:VTIMEZONE
BEGIN:VEVENT
DTSTART;TZID=Africa/Johannesburg:20230505T100000
DTEND;TZID=Africa/Johannesburg:20230531T210000
DTSTAMP:20260426T063052
CREATED:20230505T110409Z
LAST-MODIFIED:20230505T110424Z
UID:13968-1683280800-1685566800@local-info.co.za
SUMMARY:Debonairs Pizza Speacials!
DESCRIPTION:LARGE CRAM-DECKER\nWe’ve got a sharing meal that has an amazing slice for everyone. With three delicious layers\, three cheeses & a crust crammed with two chicken cheese grillers for the special price of R199.90. This is definitely one of the best pizza deals that you will need a team to finish! So\, what are you waiting for? Order Now! \n*Ts&Cs\nWhile stocks last. Offer includes one large (30cm) Cram-Decker® pizza from the following flavour selection only: chicken or meat. Offer available for a limited time only: 18 April 2023 – 10 July 2023. Full nutritional information is available on debonairspizza.co.za. Delivery Ts&Cs apply. Full Delivery Ts&Cs available on debonairspizza.co.za. \n  \n \nSMALL REAL DEAL\nWhen the day calls for a quick lunch break to keep you going\, don’t go for less\, go for amazing. Get to a Debonairs Pizza near you to order yourself one of our delicious Small Real Deal pizzas for only R34.90. It’s so affordable that you’ll never have to pretend like your wallet is dololo. \nYou can choose your fave from these 6 amazing flavours: BBQ Bacon; Pepperoni & Olive; Spicy Chicken; Debonairs Pizza Chicken; Sweet & Sour Rib and Creamy Tikka Veg. Add a Buddy Coke or 330ml Cappy Fruit Juice Blend to your Small Real Deal pizza\, uShay’iMeal that’s only R52.80. \nTs&Cs\nOffer includes one small (19cm) pizza from the selected flavours only. The Real Deal is not available for delivery orders. Meal It prices not available for delivery orders. ®Coca-Cola\, the Dynamic Ribbon Device and Coke are registered trademarks of The Coca-Cola Company © 2023. Full nutritional information is available on debonairspizza.co.za. \nCLICK HERE TO ORDER \n 
URL:https://local-info.co.za/event/debonairs-pizza-speacials/
LOCATION:DEBONAIRS\, Knysna : 50 Main Rd / Voorbaai : Louis Fourie Road / Mossel Bay : Bayview Centre.\, Knysna / Mossel Bay\, Western Cape\, South Africa
CATEGORIES:Knysna,Mossel Bay,Specials
ATTACH;FMTTYPE=image/webp:https://local-info.co.za/wp-content/uploads/2023/04/large-cram-decker-header.webp
END:VEVENT
END:VCALENDAR