BEGIN:VCALENDAR
VERSION:2.0
PRODID:-//Local-Info.co.za - ECPv6.15.20//NONSGML v1.0//EN
CALSCALE:GREGORIAN
METHOD:PUBLISH
X-WR-CALNAME:Local-Info.co.za
X-ORIGINAL-URL:https://local-info.co.za
X-WR-CALDESC:Events for Local-Info.co.za
REFRESH-INTERVAL;VALUE=DURATION:PT1H
X-Robots-Tag:noindex
X-PUBLISHED-TTL:PT1H
BEGIN:VTIMEZONE
TZID:Africa/Johannesburg
BEGIN:STANDARD
TZOFFSETFROM:+0200
TZOFFSETTO:+0200
TZNAME:SAST
DTSTART:20220101T000000
END:STANDARD
END:VTIMEZONE
BEGIN:VEVENT
DTSTART;TZID=Africa/Johannesburg:20230906T090000
DTEND;TZID=Africa/Johannesburg:20230906T200000
DTSTAMP:20260425T210108
CREATED:20230906T141842Z
LAST-MODIFIED:20230906T141842Z
UID:17326-1693990800-1694030400@local-info.co.za
SUMMARY:Wacky Wednesday - Steers
DESCRIPTION:  \nThere’s only one burger special to keep the midweek flame going. Whether you’re trying to grab a quick bite with your mate or you just have a larger than life appetite\, the NEW Wacky Wednesday is exactly what you need. \nGet TWO flame-grilled burgers for only R59.90. Monday’s got the blues\, Tuesday ain’t that great either\, but Wednesday? Well\, Wednesday is just #2Nice #WackyWednesday \n  \n \nCLICK HERE TO VISIT OUR VOORBAAI  (MOSSEL BAY)BRANCH \nCLICK HERE TO VISIT OUR KNYSNA BRANCH \nCLICK HERE TO VISIT OUR SEDGEFIELD BRANCH \nCLICK HERE TO VISIT OUR MOSSEL BAY BRANCH \n 
URL:https://local-info.co.za/event/wacky-wednesday-steers-4/
LOCATION:STEERS – SEDGEFIELD / KNYSNA / MOSSEL BAY\, South Africa
CATEGORIES:Garden Route,Knysna,Mossel Bay,Sedgefield
ATTACH;FMTTYPE=image/webp:https://local-info.co.za/wp-content/uploads/2023/09/wacky-wed-promo.webp
END:VEVENT
BEGIN:VEVENT
DTSTART;TZID=Africa/Johannesburg:20230908T080000
DTEND;TZID=Africa/Johannesburg:20230930T170000
DTSTAMP:20260425T210108
CREATED:20230908T132050Z
LAST-MODIFIED:20230908T132050Z
UID:17334-1694160000-1696093200@local-info.co.za
SUMMARY:Debonairs Pizza Promotions
DESCRIPTION:LARGE TRIPLE-DECKER® PIZZA SPECIAL\nPrepare for an unboxing experience like no other! Unbox something amazing with 3 layers and 3 cheeses with the Large Triple-Decker® for just R189.90. Our Large Triple-Decker® promotion is the perfect dinner idea for any family! Order online for an amazing pizza delivery near you. \n*Ts&Cs\nWhile stocks last. Offer includes one large (30cm) Triple-Decker® pizza from the following flavour selection: Meaty\, Creamy Chicken and Sweet Chilli Chicken: 1 August – 30 October 2023. Full nutritional information is available on debonairspizza.co.za. Delivery Ts&Cs apply. Full Delivery Ts&Cs available on debonairspizza.co.za. \nORDER NOW \n \nFam Feast\nWhen you find yourself hosting a family chillas with abomzala\, makhi and skwiza\, get something everyone will love. Get the Fam Feast for only R384.90 and Save R44\,80! With 2x Large Triple-Deckers® and a 1.5L Drink\, there’s more than enough of everyone’s fave pizza to go around. \nPlus\, by ordering online you save on this great online food deal! So when everyone comes over to your place\, get this exclusive online deal from your local Debonairs Pizza. Order online via the Debonairs Pizza app or website for an amazing pizza delivery. \nORDER NOW \n. \nCLICK HERE TO VISIT OUR KNYSNA BRANCH \nCLICK HERE TO VISIT OUR MOSSEL BAY BRANCH \nCLICK HERE TO VISIT OUR VOORBAAI (MOSSEL BAY) BRANCH \n 
URL:https://local-info.co.za/event/debonairs-pizza-promotions-4/
LOCATION:DEBONAIRS\, Knysna : 50 Main Rd / Voorbaai : Louis Fourie Road / Mossel Bay : Bayview Centre.\, Knysna / Mossel Bay\, Western Cape\, South Africa
CATEGORIES:Garden Route,Knysna,Mossel Bay
ATTACH;FMTTYPE=image/webp:https://local-info.co.za/wp-content/uploads/2023/09/large-triple-decker-header.webp
END:VEVENT
END:VCALENDAR