BEGIN:VCALENDAR
VERSION:2.0
PRODID:-//Local-Info.co.za - ECPv6.15.20//NONSGML v1.0//EN
CALSCALE:GREGORIAN
METHOD:PUBLISH
X-ORIGINAL-URL:https://local-info.co.za
X-WR-CALDESC:Events for Local-Info.co.za
REFRESH-INTERVAL;VALUE=DURATION:PT1H
X-Robots-Tag:noindex
X-PUBLISHED-TTL:PT1H
BEGIN:VTIMEZONE
TZID:Africa/Johannesburg
BEGIN:STANDARD
TZOFFSETFROM:+0200
TZOFFSETTO:+0200
TZNAME:SAST
DTSTART:20210101T000000
END:STANDARD
END:VTIMEZONE
BEGIN:VEVENT
DTSTART;TZID=Africa/Johannesburg:20220325T100000
DTEND;TZID=Africa/Johannesburg:20220325T200000
DTSTAMP:20260420T113047
CREATED:20220323T123903Z
LAST-MODIFIED:20220323T124339Z
UID:8753-1648202400-1648238400@local-info.co.za
SUMMARY:STRONGBOW BURGER COMBO - R89!!
DESCRIPTION:STRONGBOW BURGER COMBO – R89!!\nCome enjoy our DELICIOUS FULLY LOADED BURGER with your choice of mushroom or cheese sauce\, a side of chips & onion rings\, AND a Strongbow Cider ALL FOR ONLY R89 @ REROUTE62 in 44 Albert Street in George! This combo will defnitly satisfy ALL your cravings!! \nContact us on 081 296 8990 if you have any questions! \nSPECIAL VALID TILL 31 March 2022 ! \n 
URL:https://local-info.co.za/event/strongbow-burger-combo-r89-2-2022-03-25/
LOCATION:REROUTE 62\, 44 Albert Street\, George.\, George\, Western Cape\, South Africa
CATEGORIES:Garden Route,George
ATTACH;FMTTYPE=image/jpeg:https://local-info.co.za/wp-content/uploads/2022/03/PHOTO-2022-02-18-13-15-59.jpg
END:VEVENT
BEGIN:VEVENT
DTSTART;TZID=Africa/Johannesburg:20220324T100000
DTEND;TZID=Africa/Johannesburg:20220324T200000
DTSTAMP:20260420T113047
CREATED:20220323T123903Z
LAST-MODIFIED:20220323T124335Z
UID:8752-1648116000-1648152000@local-info.co.za
SUMMARY:STRONGBOW BURGER COMBO - R89!!
DESCRIPTION:STRONGBOW BURGER COMBO – R89!!\nCome enjoy our DELICIOUS FULLY LOADED BURGER with your choice of mushroom or cheese sauce\, a side of chips & onion rings\, AND a Strongbow Cider ALL FOR ONLY R89 @ REROUTE62 in 44 Albert Street in George! This combo will defnitly satisfy ALL your cravings!! \nContact us on 081 296 8990 if you have any questions! \nSPECIAL VALID TILL 31 March 2022 ! \n 
URL:https://local-info.co.za/event/strongbow-burger-combo-r89-2-2022-03-24/
LOCATION:REROUTE 62\, 44 Albert Street\, George.\, George\, Western Cape\, South Africa
CATEGORIES:Garden Route,George
ATTACH;FMTTYPE=image/jpeg:https://local-info.co.za/wp-content/uploads/2022/03/PHOTO-2022-02-18-13-15-59.jpg
END:VEVENT
BEGIN:VEVENT
DTSTART;TZID=Africa/Johannesburg:20220323T100000
DTEND;TZID=Africa/Johannesburg:20220323T200000
DTSTAMP:20260420T113047
CREATED:20220323T123903Z
LAST-MODIFIED:20220323T124331Z
UID:8747-1648029600-1648065600@local-info.co.za
SUMMARY:STRONGBOW BURGER COMBO - R89!!
DESCRIPTION:STRONGBOW BURGER COMBO – R89!!\nCome enjoy our DELICIOUS FULLY LOADED BURGER with your choice of mushroom or cheese sauce\, a side of chips & onion rings\, AND a Strongbow Cider ALL FOR ONLY R89 @ REROUTE62 in 44 Albert Street in George! This combo will defnitly satisfy ALL your cravings!! \nContact us on 081 296 8990 if you have any questions! \nSPECIAL VALID TILL 31 March 2022 ! \n 
URL:https://local-info.co.za/event/strongbow-burger-combo-r89-2/
LOCATION:REROUTE 62\, 44 Albert Street\, George.\, George\, Western Cape\, South Africa
CATEGORIES:Garden Route,George
ATTACH;FMTTYPE=image/jpeg:https://local-info.co.za/wp-content/uploads/2022/03/PHOTO-2022-02-18-13-15-59.jpg
END:VEVENT
BEGIN:VEVENT
DTSTART;TZID=Africa/Johannesburg:20220321T080000
DTEND;TZID=Africa/Johannesburg:20220430T170000
DTSTAMP:20260420T113047
CREATED:20220323T060226Z
LAST-MODIFIED:20220323T060226Z
UID:8666-1647849600-1651338000@local-info.co.za
SUMMARY:WIN a bucket list experience with Dunlop to the value of R30 000 @ Palm Tyre George!
DESCRIPTION:How to enter:\nBut any 4 PCR or SUV Dunlop or Sumitomo tyres and send your invoice via email to: vouchers@srigroup.co.za or\nWhatsApp: 0829572912 to qualify.\n\n\nEntries will be valid between 21 March 2022 and 30 April 2022\, and one winner will be selected per region.\nT’s and C’s apply.
URL:https://local-info.co.za/event/win-a-bucket-list-experience-with-dunlop-to-the-value-of-r30-000-palm-tyre-george/
LOCATION:Palm Tyre George\, 68 COURTENAY STREET\,\, George\, WC\, 6530\, South Africa
CATEGORIES:Garden Route,George
ATTACH;FMTTYPE=image/jpeg:https://local-info.co.za/wp-content/uploads/2022/03/palm-tyre-specials.jpg
END:VEVENT
END:VCALENDAR