BEGIN:VCALENDAR
VERSION:2.0
PRODID:-//Local-Info.co.za - ECPv6.15.20//NONSGML v1.0//EN
CALSCALE:GREGORIAN
METHOD:PUBLISH
X-WR-CALNAME:Local-Info.co.za
X-ORIGINAL-URL:https://local-info.co.za
X-WR-CALDESC:Events for Local-Info.co.za
REFRESH-INTERVAL;VALUE=DURATION:PT1H
X-Robots-Tag:noindex
X-PUBLISHED-TTL:PT1H
BEGIN:VTIMEZONE
TZID:Africa/Johannesburg
BEGIN:STANDARD
TZOFFSETFROM:+0200
TZOFFSETTO:+0200
TZNAME:SAST
DTSTART:20240101T000000
END:STANDARD
END:VTIMEZONE
BEGIN:VEVENT
DTSTART;VALUE=DATE:20250820
DTEND;VALUE=DATE:20250821
DTSTAMP:20260420T112756
CREATED:20250730T104005Z
LAST-MODIFIED:20250730T104006Z
UID:23804-1755648000-1755734399@local-info.co.za
SUMMARY:Pizza Special at Jorrie's!
DESCRIPTION:Pizza Special at Jorrie’s!\n \nGet ready for a slice of heaven with our unbeatable Pizza Special at Jorrie’s– where fresh ingredients\, melty cheese\, and golden crust come together to create pure pizza perfection! Whether you’re feeding the family\, sharing with friends\, or just treating yourself\, this deal is made to satisfy. \nWhether you’re a meat lover\, cheese fanatic\, or veggie champion\, we’ve got the perfect pie for you – hot from the oven\, loaded with flavour\, and dripping with deliciousness!
URL:https://local-info.co.za/event/pizza-special-at-jorries-3/
LOCATION:Western Cape
CATEGORIES:Garden Route,George,Specials
ATTACH;FMTTYPE=image/jpeg:https://local-info.co.za/wp-content/uploads/2025/07/Jorries-Logo.jpg
END:VEVENT
END:VCALENDAR