BEGIN:VCALENDAR
VERSION:2.0
PRODID:-//Local-Info.co.za - ECPv6.15.20//NONSGML v1.0//EN
CALSCALE:GREGORIAN
METHOD:PUBLISH
X-ORIGINAL-URL:https://local-info.co.za
X-WR-CALDESC:Events for Local-Info.co.za
REFRESH-INTERVAL;VALUE=DURATION:PT1H
X-Robots-Tag:noindex
X-PUBLISHED-TTL:PT1H
BEGIN:VTIMEZONE
TZID:Africa/Johannesburg
BEGIN:STANDARD
TZOFFSETFROM:+0200
TZOFFSETTO:+0200
TZNAME:SAST
DTSTART:20240101T000000
END:STANDARD
END:VTIMEZONE
BEGIN:VEVENT
DTSTART;VALUE=DATE:20250819
DTEND;VALUE=DATE:20250820
DTSTAMP:20260420T113057
CREATED:20250730T102053Z
LAST-MODIFIED:20250730T102053Z
UID:23795-1755561600-1755647999@local-info.co.za
SUMMARY:Rib Special only at Jorrie's!
DESCRIPTION:Rib Special only at Jorrie’s!\n \nCraving something tender\, juicy\, and packed with flavour? Our Rib Special only at Jorrie’s  is here to satisfy your hunger in the best way possible! Enjoy a generous portion of succulent ribs\, flame-grilled to perfection and smothered in our signature sticky BBQ sauce – it’s the kind of meal that makes you lick your fingers and smile with every bite.
URL:https://local-info.co.za/event/rib-special-only-at-jorries-3/
LOCATION:Western Cape
CATEGORIES:Garden Route,George,Specials
ATTACH;FMTTYPE=image/jpeg:https://local-info.co.za/wp-content/uploads/2025/07/Jorries-Logo.jpg
END:VEVENT
END:VCALENDAR