BEGIN:VCALENDAR
VERSION:2.0
PRODID:-//Local-Info.co.za - ECPv6.15.20//NONSGML v1.0//EN
CALSCALE:GREGORIAN
METHOD:PUBLISH
X-WR-CALNAME:Local-Info.co.za
X-ORIGINAL-URL:https://local-info.co.za
X-WR-CALDESC:Events for Local-Info.co.za
REFRESH-INTERVAL;VALUE=DURATION:PT1H
X-Robots-Tag:noindex
X-PUBLISHED-TTL:PT1H
BEGIN:VTIMEZONE
TZID:Africa/Johannesburg
BEGIN:STANDARD
TZOFFSETFROM:+0200
TZOFFSETTO:+0200
TZNAME:SAST
DTSTART:20240101T000000
END:STANDARD
END:VTIMEZONE
BEGIN:VEVENT
DTSTART;VALUE=DATE:20250601
DTEND;VALUE=DATE:20250801
DTSTAMP:20260422T134431
CREATED:20250529T112931Z
LAST-MODIFIED:20250529T112932Z
UID:23131-1748736000-1754006399@local-info.co.za
SUMMARY:Big Joes Pies
DESCRIPTION:Big Joe’s Pies\n \nAt Big Joe’s\, we’re all about bringing you delicious\, hearty pies made the old-fashioned way – with quality ingredients\, generous fillings\, and flaky golden pastry. Whether you’re grabbing a quick lunch or feeding the family\, there’s a pie for everyone!
URL:https://local-info.co.za/event/big-joes-pies-4/
LOCATION:Western Cape
CATEGORIES:Garden Route,George,Great Brak,Hartenbos,Knysna,Mossel Bay,Plettenberg Bay,Sedgefield,Specials,Wilderness
ATTACH;FMTTYPE=image/jpeg:https://local-info.co.za/wp-content/uploads/2025/05/big1.jpg
END:VEVENT
BEGIN:VEVENT
DTSTART;VALUE=DATE:20250602
DTEND;VALUE=DATE:20250701
DTSTAMP:20260422T134431
CREATED:20250602T103856Z
LAST-MODIFIED:20250602T103918Z
UID:23205-1748822400-1751327999@local-info.co.za
SUMMARY:Gold Wagen June Specials!
DESCRIPTION:Gold Wagen June Specials!\n             \nClick here for more awesome deals!
URL:https://local-info.co.za/event/gold-wagen-june-specials/
LOCATION:Western Cape
CATEGORIES:Garden Route,George,Specials
ATTACH;FMTTYPE=image/jpeg:https://local-info.co.za/wp-content/uploads/2025/06/goldwagen.jpg
END:VEVENT
BEGIN:VEVENT
DTSTART;VALUE=DATE:20250610
DTEND;VALUE=DATE:20250611
DTSTAMP:20260422T134431
CREATED:20250530T103303Z
LAST-MODIFIED:20250530T103304Z
UID:23184-1749513600-1749599999@local-info.co.za
SUMMARY:Rib Special at Jorrie's
DESCRIPTION:Rib Special at Jorrie’s!\n \nSink your teeth into our mouthwatering Rib Special – tender\, juicy\, and grilled to perfection! Whether you’re a rib lover or just in the mood for something delicious\, this is a deal you don’t want to miss! \nServed with your choice of sides and packed with flavour\, it’s the perfect meal to satisfy your hunger and your cravings. Great food\, great vibes\, and a rib special that hits the spot every time! \nCome hungry. Leave happy!
URL:https://local-info.co.za/event/rib-special-at-jorries-2/
LOCATION:Western Cape
CATEGORIES:Garden Route,George,Specials
ATTACH;FMTTYPE=image/jpeg:https://local-info.co.za/wp-content/uploads/2024/12/jorries1.jpg
END:VEVENT
END:VCALENDAR