BEGIN:VCALENDAR
VERSION:2.0
PRODID:-//Local-Info.co.za - ECPv6.15.20//NONSGML v1.0//EN
CALSCALE:GREGORIAN
METHOD:PUBLISH
X-WR-CALNAME:Local-Info.co.za
X-ORIGINAL-URL:https://local-info.co.za
X-WR-CALDESC:Events for Local-Info.co.za
REFRESH-INTERVAL;VALUE=DURATION:PT1H
X-Robots-Tag:noindex
X-PUBLISHED-TTL:PT1H
BEGIN:VTIMEZONE
TZID:Africa/Johannesburg
BEGIN:STANDARD
TZOFFSETFROM:+0200
TZOFFSETTO:+0200
TZNAME:SAST
DTSTART:20240101T000000
END:STANDARD
END:VTIMEZONE
BEGIN:VEVENT
DTSTART;TZID=Africa/Johannesburg:20250321T100000
DTEND;TZID=Africa/Johannesburg:20250430T020000
DTSTAMP:20260422T172229
CREATED:20250321T074853Z
LAST-MODIFIED:20250321T074854Z
UID:22263-1742551200-1745978400@local-info.co.za
SUMMARY:400g Ribs + Chips & Onion Rings for R120 only @Jorries
DESCRIPTION:🔥 Ribs\, Chips & Onion Rings at Jorries! 🔥 \nCraving something delicios? Get ready for a mouthwatering feast at Jorries! 🍖🍟🧅 \nEnjoy tender\, juicy ribs\, perfectly cooked crispy chips\, and golden onion rings that will leave you wanting more! 🤤 \nYou DON’T wanna miss this! 😍 Come get yours today! 🍽️🔥 \n📍 Jorries – Where Every Bite is a Delight! \nRibs Specials with Chips & Onion Rings\n400G R120\n600G R180\n800G R22O\n  \n 
URL:https://local-info.co.za/event/400g-ribs-chips-onion-rings-for-r120-only-jorries/
LOCATION:5 York St\, George\, 6529\, South Africa\, 5 York St\, George\, 6529\, South Africa\, George\, 6529\, South Africa
CATEGORIES:Garden Route,George,Specials
ATTACH;FMTTYPE=image/jpeg:https://local-info.co.za/wp-content/uploads/2025/03/PHOTO-2025-03-21-08-51-44.jpg
END:VEVENT
BEGIN:VEVENT
DTSTART;TZID=Africa/Johannesburg:20250422T080000
DTEND;TZID=Africa/Johannesburg:20250531T170000
DTSTAMP:20260422T172229
CREATED:20250422T101258Z
LAST-MODIFIED:20250422T101258Z
UID:22431-1745308800-1748710800@local-info.co.za
SUMMARY:Goldwagen April-May specials!
DESCRIPTION:Goldwagen in George sells high quality car parts and spares for the following car / vehicle brands: Toyota\, Ford\, Mazda\, Audi\, Nissan\, Isuzu\, VW\, BMW\, Mercedes-Benz\, Opel\, Chevrolet\, Hyundai\, Kia\, Land Rover\, Jeep\, Volvo\, Mini and Renault vehicles – all with a 12-month warranty.\n\n.\n\n\n\n\nVisit us in 34 Knysna Road\, George or give us a call at (044) 884 1284\n.\nCLICK HERE TO VIEW OUR WEBSITE
URL:https://local-info.co.za/event/goldwagen-april-may-specials/
LOCATION:GOLDWAGEN\, 34 Knysna Road\, George\, Western Cape\, South Africa
CATEGORIES:Garden Route,George
ATTACH;FMTTYPE=image/jpeg:https://local-info.co.za/wp-content/uploads/2025/03/Goldwagen-Specials-1.jpg
END:VEVENT
END:VCALENDAR