BEGIN:VCALENDAR
VERSION:2.0
PRODID:-//Local-Info.co.za - ECPv6.15.20//NONSGML v1.0//EN
CALSCALE:GREGORIAN
METHOD:PUBLISH
X-ORIGINAL-URL:https://local-info.co.za
X-WR-CALDESC:Events for Local-Info.co.za
REFRESH-INTERVAL;VALUE=DURATION:PT1H
X-Robots-Tag:noindex
X-PUBLISHED-TTL:PT1H
BEGIN:VTIMEZONE
TZID:Africa/Johannesburg
BEGIN:STANDARD
TZOFFSETFROM:+0200
TZOFFSETTO:+0200
TZNAME:SAST
DTSTART:20230101T000000
END:STANDARD
END:VTIMEZONE
BEGIN:VEVENT
DTSTART;TZID=Africa/Johannesburg:20240701T090000
DTEND;TZID=Africa/Johannesburg:20240731T180000
DTSTAMP:20260423T074544
CREATED:20240701T135927Z
LAST-MODIFIED:20240701T135927Z
UID:19845-1719824400-1722448800@local-info.co.za
SUMMARY:Traditional Biryani Packs Now Available at Low Prices – Only at Mobile Spices!
DESCRIPTION:Biryani Packs serves 4-8 people. You only need to add your meat of choice. R100 each or R180 for two.\nClick here to view our Web Page!
URL:https://local-info.co.za/event/traditional-biryani-packs-now-available-at-low-prices-only-at-mobile-spices/
LOCATION:MOBILE SPICES\, George\, Western Cape\, 6529\, South Africa
CATEGORIES:Garden Route,George
ATTACH;FMTTYPE=image/jpeg:https://local-info.co.za/wp-content/uploads/2024/07/IMG-20240701-WA0011.jpg
END:VEVENT
BEGIN:VEVENT
DTSTART;TZID=Africa/Johannesburg:20240708T080000
DTEND;TZID=Africa/Johannesburg:20240731T170000
DTSTAMP:20260423T074544
CREATED:20240708T102541Z
LAST-MODIFIED:20240708T102541Z
UID:19881-1720425600-1722445200@local-info.co.za
SUMMARY:Goldwagen Specials!
DESCRIPTION:Goldwagen in George sells high quality car parts and spares for the following car / vehicle brands: Toyota\, Ford\, Mazda\, Audi\, Nissan\, Isuzu\, VW\, BMW\, Mercedes-Benz\, Opel\, Chevrolet\, Hyundai\, Kia\, Land Rover\, Jeep\, Volvo\, Mini and Renault vehicles – all with a 12-month warranty. \n\nOur Winter Specials are here to save the day (and your wallet)!\n\n\nLooking for quality replacement parts to keep your vehicle running smoothly this winter?\n\n\n\n\n\n\n\n\n\nVisit us in 34 Knysna Road\, George or give us a call at (044) 884 1284\nCLICK HERE TO VIEW OUR WEBSITE\n\n.
URL:https://local-info.co.za/event/goldwagen-specials-5/
LOCATION:GOLDWAGEN\, 34 Knysna Road\, George\, Western Cape\, South Africa
CATEGORIES:Garden Route,George
ATTACH;FMTTYPE=image/jpeg:https://local-info.co.za/wp-content/uploads/2024/03/Goldwagen-fron-View-1536x857-1.jpg
END:VEVENT
END:VCALENDAR