BEGIN:VCALENDAR
VERSION:2.0
PRODID:-//Local-Info.co.za - ECPv6.15.20//NONSGML v1.0//EN
CALSCALE:GREGORIAN
METHOD:PUBLISH
X-WR-CALNAME:Local-Info.co.za
X-ORIGINAL-URL:https://local-info.co.za
X-WR-CALDESC:Events for Local-Info.co.za
REFRESH-INTERVAL;VALUE=DURATION:PT1H
X-Robots-Tag:noindex
X-PUBLISHED-TTL:PT1H
BEGIN:VTIMEZONE
TZID:Africa/Johannesburg
BEGIN:STANDARD
TZOFFSETFROM:+0200
TZOFFSETTO:+0200
TZNAME:SAST
DTSTART:20230101T000000
END:STANDARD
END:VTIMEZONE
BEGIN:VEVENT
DTSTART;TZID=Africa/Johannesburg:20240410T080000
DTEND;TZID=Africa/Johannesburg:20240430T170000
DTSTAMP:20260423T121518
CREATED:20240410T083744Z
LAST-MODIFIED:20240410T083744Z
UID:19160-1712736000-1714496400@local-info.co.za
SUMMARY:Goldwagen Specials!
DESCRIPTION:Goldwagen in George sells high quality car parts and spares for the following car / vehicle brands: Toyota\, Ford\, Mazda\, Audi\, Nissan\, Isuzu\, VW\, BMW\, Mercedes-Benz\, Opel\, Chevrolet\, Hyundai\, Kia\, Land Rover\, Jeep\, Volvo\, Mini and Renault vehicles – all with a 12-month warranty.\n.\n\n\n\n\n𝐇𝐞𝐥𝐥𝐨 𝐀𝐏𝐑𝐈𝐋!\n\n\nBack to school\, back to work?\n\n\nGear up for a busy season with Goldwagen’s unbeatable specials on vehicle parts.\n\n\nGet your car running smoothly without breaking the bank!\n\n\nGoldwagen sells quality parts suitable for Toyota Haval Honda Suzuki Ford Isuzu Nissan Renault Kia Hyundai Mercedes BMW Audi Mini Opel Chevrolet Mazda Volkswagen Land Rover Volvo Jeep\n\n\n.\n\n\nPrepare to hit the road with our specials on quality vehicle parts.\n\n\nSpecials are valid from 1 April until 30 April 2024\n\n\n\n\nVisit us in 34 Knysna Road\, George or give us a call at (044) 884 1284\nCLICK HERE TO VIEW OUR WEBSITE\n\n\n\n \n           \n 
URL:https://local-info.co.za/event/goldwagen-specials-2/
LOCATION:GOLDWAGEN\, 34 Knysna Road\, George\, Western Cape\, South Africa
CATEGORIES:Garden Route,George
ATTACH;FMTTYPE=image/jpeg:https://local-info.co.za/wp-content/uploads/2024/03/Goldwagen-fron-View-1536x857-1.jpg
END:VEVENT
END:VCALENDAR