BEGIN:VCALENDAR
VERSION:2.0
PRODID:-//Local-Info.co.za - ECPv6.15.20//NONSGML v1.0//EN
CALSCALE:GREGORIAN
METHOD:PUBLISH
X-ORIGINAL-URL:https://local-info.co.za
X-WR-CALDESC:Events for Local-Info.co.za
REFRESH-INTERVAL;VALUE=DURATION:PT1H
X-Robots-Tag:noindex
X-PUBLISHED-TTL:PT1H
BEGIN:VTIMEZONE
TZID:Africa/Johannesburg
BEGIN:STANDARD
TZOFFSETFROM:+0200
TZOFFSETTO:+0200
TZNAME:SAST
DTSTART:20230101T000000
END:STANDARD
END:VTIMEZONE
BEGIN:VEVENT
DTSTART;TZID=Africa/Johannesburg:20240315T090000
DTEND;TZID=Africa/Johannesburg:20240315T220000
DTSTAMP:20260423T141424
CREATED:20240311T131403Z
LAST-MODIFIED:20240314T062628Z
UID:18607-1710493200-1710540000@local-info.co.za
SUMMARY:𝐅𝐫𝐢𝐝𝐚𝐲 𝐂𝐑𝐀𝐙𝐘 𝐛𝐫𝐚𝐚𝐢 𝐬𝐩𝐞𝐜𝐢𝐚𝐥𝐬!
DESCRIPTION:Kick off your boots and relax with our CRAZY Happy Hour specials tonight! \nDinner is ready to be served\, piping hot tonight\, with a variety of meaty feasts! \n𝘉𝘦𝘤𝘢𝘶𝘴𝘦 𝘦𝘷𝘦𝘳𝘺𝘵𝘩𝘪𝘯𝘨’𝘴 𝘣𝘪𝘨 𝘪𝘯 𝘛𝘦𝘹𝘢𝘴!\n𝘏𝘢𝘱𝘱𝘺 𝘏𝘰𝘶𝘳 𝘧𝘳𝘰𝘮 5𝘱𝘮 𝘵𝘰 7𝘱𝘮\n𝘛𝘩𝘦 𝘛𝘦𝘹𝘢𝘴 𝘎𝘳𝘪𝘭𝘭 𝘍𝘢𝘮𝘪𝘭𝘺 \nCLICK HERE TO VIEW OUR WEBPAGE
URL:https://local-info.co.za/event/%f0%9d%90%85%f0%9d%90%ab%f0%9d%90%a2%f0%9d%90%9d%f0%9d%90%9a%f0%9d%90%b2-%f0%9d%90%82%f0%9d%90%91%f0%9d%90%80%f0%9d%90%99%f0%9d%90%98-%f0%9d%90%9b%f0%9d%90%ab%f0%9d%90%9a%f0%9d%90%9a%f0%9d%90%a2/
LOCATION:Texas Grill\, Meade street\, George\, Western Cape\, South Africa
CATEGORIES:Garden Route,George
ATTACH;FMTTYPE=image/jpeg:https://local-info.co.za/wp-content/uploads/2024/02/Texas-Grill-Friday-Special.jpg
END:VEVENT
END:VCALENDAR