BEGIN:VCALENDAR
VERSION:2.0
PRODID:-//Local-Info.co.za - ECPv6.15.20//NONSGML v1.0//EN
CALSCALE:GREGORIAN
METHOD:PUBLISH
X-WR-CALNAME:Local-Info.co.za
X-ORIGINAL-URL:https://local-info.co.za
X-WR-CALDESC:Events for Local-Info.co.za
REFRESH-INTERVAL;VALUE=DURATION:PT1H
X-Robots-Tag:noindex
X-PUBLISHED-TTL:PT1H
BEGIN:VTIMEZONE
TZID:Africa/Johannesburg
BEGIN:STANDARD
TZOFFSETFROM:+0200
TZOFFSETTO:+0200
TZNAME:SAST
DTSTART:20220101T000000
END:STANDARD
END:VTIMEZONE
BEGIN:VEVENT
DTSTART;TZID=Africa/Johannesburg:20231205T080000
DTEND;TZID=Africa/Johannesburg:20231231T170000
DTSTAMP:20260423T184545
CREATED:20231205T131414Z
LAST-MODIFIED:20231205T131414Z
UID:17981-1701763200-1704042000@local-info.co.za
SUMMARY:Festive Season Specials - Goldwagen!
DESCRIPTION:Goldwagen in George sells high quality car parts and spares for the following car / vehicle brands: Toyota\, Ford\, Mazda\, Audi\, Nissan\, Isuzu\, VW\, BMW\, Mercedes-Benz\, Opel\, Chevrolet\, Hyundai\, Kia\, Land Rover\, Jeep\, Volvo\, Mini and Renault vehicles – all with a 12-month warranty. \n\nIt’s that time of the year\, our festive season specials!!\n\n\nExplore the latest offers on Clutch Kits\, Water Pumps\, Filters\, Fuel Pumps\, Injectors\, Fluids\, Filter Kits\, Belts\, Brakes\, Radiators and more.\n\n\nBut that’s not all – discover additional in-store promotions\, a special limited stock on New to Goldwagen and an exciting coming soon product!\n.\n\nVisit us in 34 Knysna Road\, George or give us a call at (044) 884 1284\nCLICK HERE TO VIEW OUR WEBSITE\\n.
URL:https://local-info.co.za/event/festive-season-specials-goldwagen/
LOCATION:GOLDWAGEN\, 34 Knysna Road\, George\, Western Cape\, South Africa
CATEGORIES:Garden Route,George
ATTACH;FMTTYPE=image/jpeg:https://local-info.co.za/wp-content/uploads/2021/06/Goldwagen-fron-View.jpg
END:VEVENT
END:VCALENDAR