BEGIN:VCALENDAR
VERSION:2.0
PRODID:-//Local-Info.co.za - ECPv6.15.20//NONSGML v1.0//EN
CALSCALE:GREGORIAN
METHOD:PUBLISH
X-ORIGINAL-URL:https://local-info.co.za
X-WR-CALDESC:Events for Local-Info.co.za
REFRESH-INTERVAL;VALUE=DURATION:PT1H
X-Robots-Tag:noindex
X-PUBLISHED-TTL:PT1H
BEGIN:VTIMEZONE
TZID:Africa/Johannesburg
BEGIN:STANDARD
TZOFFSETFROM:+0200
TZOFFSETTO:+0200
TZNAME:SAST
DTSTART:20220101T000000
END:STANDARD
END:VTIMEZONE
BEGIN:VEVENT
DTSTART;TZID=Africa/Johannesburg:20230807T080000
DTEND;TZID=Africa/Johannesburg:20230831T170000
DTSTAMP:20260424T010552
CREATED:20230807T141755Z
LAST-MODIFIED:20230807T141755Z
UID:16866-1691395200-1693501200@local-info.co.za
SUMMARY:Goldwagen Specials - George
DESCRIPTION:CLICK HERE TO VISIT OUR WEBPAGE
URL:https://local-info.co.za/event/goldwagen-specials-george-2/
LOCATION:GOLDWAGEN\, 34 Knysna Road\, George\, Western Cape\, South Africa
CATEGORIES:Garden Route,George
ATTACH;FMTTYPE=image/jpeg:https://local-info.co.za/wp-content/uploads/2023/08/Goldwagen-George-1.jpg
END:VEVENT
END:VCALENDAR