BEGIN:VCALENDAR
VERSION:2.0
PRODID:-//Local-Info.co.za - ECPv6.15.20//NONSGML v1.0//EN
CALSCALE:GREGORIAN
METHOD:PUBLISH
X-ORIGINAL-URL:https://local-info.co.za
X-WR-CALDESC:Events for Local-Info.co.za
REFRESH-INTERVAL;VALUE=DURATION:PT1H
X-Robots-Tag:noindex
X-PUBLISHED-TTL:PT1H
BEGIN:VTIMEZONE
TZID:Africa/Johannesburg
BEGIN:STANDARD
TZOFFSETFROM:+0200
TZOFFSETTO:+0200
TZNAME:SAST
DTSTART:20220101T000000
END:STANDARD
END:VTIMEZONE
BEGIN:VEVENT
DTSTART;TZID=Africa/Johannesburg:20230504T080000
DTEND;TZID=Africa/Johannesburg:20230531T170000
DTSTAMP:20260424T054641
CREATED:20230504T124005Z
LAST-MODIFIED:20230504T124005Z
UID:15633-1683187200-1685552400@local-info.co.za
SUMMARY:Get Mega MOOLAH at Wildman George
DESCRIPTION:  \nHunt for our discount stickers for awesome promotions  Make sure you have your card ready or talk to a sales person for more information about exciting in-store benefits  \nVisit us at the York Street Shopping Centre in George! Or give us a call at 044 873 2149 \nCLICK HERE TO VIEW OUR WEBSITE \n  \n \nWILDMAN George – Hunting\, Outdoor\, Fishing & Camping Specialists ! \nWildman George specialises in dealing with firearms and ammunition for the ongoing growth in hunting in South Africa as well as sport shooters from various hunting and sport shooting associations. Our retail store boasts a large fishing department with experienced fishing experts to assist our customers. We also supply outdoor products for the nature enthusiast\, and a wide variety of clothing available for the whole family. \nCLICK HERE TO VISIT OUR FACEBOOK PAGE
URL:https://local-info.co.za/event/get-mega-moolah-at-wildman-george/
LOCATION:Wildman George\, 23 Laing St\, George South\, George\, George\, Western Cape\, 6529\, South Africa
CATEGORIES:Garden Route,Garden Route,George,George
ATTACH;FMTTYPE=image/jpeg:https://local-info.co.za/wp-content/uploads/2023/05/mega-moolah-1.jpg
END:VEVENT
END:VCALENDAR