BEGIN:VCALENDAR
VERSION:2.0
PRODID:-//Local-Info.co.za - ECPv6.15.20//NONSGML v1.0//EN
CALSCALE:GREGORIAN
METHOD:PUBLISH
X-ORIGINAL-URL:https://local-info.co.za
X-WR-CALDESC:Events for Local-Info.co.za
REFRESH-INTERVAL;VALUE=DURATION:PT1H
X-Robots-Tag:noindex
X-PUBLISHED-TTL:PT1H
BEGIN:VTIMEZONE
TZID:Africa/Johannesburg
BEGIN:STANDARD
TZOFFSETFROM:+0200
TZOFFSETTO:+0200
TZNAME:SAST
DTSTART:20220101T000000
END:STANDARD
END:VTIMEZONE
BEGIN:VEVENT
DTSTART;TZID=Africa/Johannesburg:20230110T080000
DTEND;TZID=Africa/Johannesburg:20230131T170000
DTSTAMP:20260424T123043
CREATED:20230110T150413Z
LAST-MODIFIED:20230110T150413Z
UID:13586-1673337600-1675184400@local-info.co.za
SUMMARY:Goldwagen Specials - George!
DESCRIPTION:
URL:https://local-info.co.za/event/goldwagen-specials-george/
LOCATION:GOLDWAGEN\, 34 Knysna Road\, George\, Western Cape\, South Africa
CATEGORIES:Garden Route,George
ATTACH;FMTTYPE=image/jpeg:https://local-info.co.za/wp-content/uploads/2023/01/Goldwagen-George-1.jpg
END:VEVENT
END:VCALENDAR