BEGIN:VCALENDAR
VERSION:2.0
PRODID:-//Local-Info.co.za - ECPv6.15.20//NONSGML v1.0//EN
CALSCALE:GREGORIAN
METHOD:PUBLISH
X-ORIGINAL-URL:https://local-info.co.za
X-WR-CALDESC:Events for Local-Info.co.za
REFRESH-INTERVAL;VALUE=DURATION:PT1H
X-Robots-Tag:noindex
X-PUBLISHED-TTL:PT1H
BEGIN:VTIMEZONE
TZID:Africa/Johannesburg
BEGIN:STANDARD
TZOFFSETFROM:+0200
TZOFFSETTO:+0200
TZNAME:SAST
DTSTART:20230101T000000
END:STANDARD
END:VTIMEZONE
BEGIN:VEVENT
DTSTART;TZID=Africa/Johannesburg:20240311T090000
DTEND;TZID=Africa/Johannesburg:20240311T213000
DTSTAMP:20260423T123930
CREATED:20240311T131827Z
LAST-MODIFIED:20240314T062145Z
UID:18590-1710147600-1710192600@local-info.co.za
SUMMARY:𝐓𝐞𝐱𝐚𝐬 𝐆𝐫𝐢𝐥𝐥 𝐂𝐑𝐀𝐙𝐘 𝐌𝐨𝐧𝐝𝐚𝐲 𝐒𝐩𝐞𝐜𝐢𝐚𝐥𝐬!
DESCRIPTION:Don’t forget our Monday special\, delicious full calamari for only R119 or double hake and chips for R67! YEEHAh! \nNo need to worry about dinner tonight \n#NoMoreBlueMondays\n𝘉𝘦𝘤𝘢𝘶𝘴𝘦 𝘦𝘷𝘦𝘳𝘺𝘵𝘩𝘪𝘯𝘨’𝘴 𝘣𝘪𝘨 𝘪𝘯 𝘛𝘦𝘹𝘢𝘴!\n𝘏𝘢𝘱𝘱𝘺 𝘏𝘰𝘶𝘳 𝘧𝘳𝘰𝘮 5𝘱𝘮 𝘵𝘰 7𝘱𝘮\n𝘛𝘩𝘦 𝘛𝘦𝘹𝘢𝘴 𝘎𝘳𝘪𝘭𝘭 𝘍𝘢𝘮𝘪𝘭𝘺 \nCLICK HERE TO VIEW OUR WEBPAGE
URL:https://local-info.co.za/event/%f0%9d%90%93%f0%9d%90%9e%f0%9d%90%b1%f0%9d%90%9a%f0%9d%90%ac-%f0%9d%90%86%f0%9d%90%ab%f0%9d%90%a2%f0%9d%90%a5%f0%9d%90%a5-%f0%9d%90%82%f0%9d%90%91%f0%9d%90%80%f0%9d%90%99%f0%9d%90%98-%f0%9d%90%8c/
LOCATION:Texas Grill\, Meade street\, George\, Western Cape\, South Africa
CATEGORIES:Garden Route,George
ATTACH;FMTTYPE=image/jpeg:https://local-info.co.za/wp-content/uploads/2024/02/406046927_774144051396899_8495693566748388406_n.jpg
END:VEVENT
BEGIN:VEVENT
DTSTART;TZID=Africa/Johannesburg:20240311T120000
DTEND;TZID=Africa/Johannesburg:20240311T210000
DTSTAMP:20260423T123930
CREATED:20240311T141736Z
LAST-MODIFIED:20240314T062419Z
UID:18901-1710158400-1710190800@local-info.co.za
SUMMARY:Big Daddy's Monday Special!
DESCRIPTION:Big Daddy’s Restaurant & Bar – This family friendly Restaurant offers lovely\, spacious outdoor seating for those beautiful sunny days and cozy indoor seating for the colder ones. Here you can enjoy a variety of different delicious foods with a nice cold beverage and for the kids\, we have Big Daddy’s Milkshakes. On hot days you can get yourself a creamy latte or hot chocolate\, here is something for everyone! \nAddress: Powrie St\, Mossel Bay\, South Africa \nContact: 071 699 2808 \nClick here to view our website
URL:https://local-info.co.za/event/big-daddys-monday-special/
LOCATION:BIG DADDYS\, Powrie St\, Mossel Bay\, 6505\, Mossel Bay\, Western Cape\, 6500\, South Africa
CATEGORIES:Garden Route,George,Knysna,Mossel Bay
ATTACH;FMTTYPE=image/jpeg:https://local-info.co.za/wp-content/uploads/2024/02/monday.jpg
END:VEVENT
BEGIN:VEVENT
DTSTART;TZID=Africa/Johannesburg:20240312T090000
DTEND;TZID=Africa/Johannesburg:20240312T213000
DTSTAMP:20260423T123930
CREATED:20240311T132321Z
LAST-MODIFIED:20240311T132347Z
UID:18595-1710234000-1710279000@local-info.co.za
SUMMARY:𝐓𝐞𝐱𝐚𝐬 𝐆𝐫𝐢𝐥𝐥 𝐂𝐑𝐀𝐙𝐘 𝐓𝐮𝐞𝐬𝐝𝐚𝐲 𝐒𝐩𝐞𝐜𝐢𝐚𝐥𝐬!
DESCRIPTION:At Texas\, we’re always looking out for our hungry cowboys.\nEnjoy a scrumptious chicken schnitzel with cheese or mushroom sauce and a side of crispy chips for only R65! \nAvailable for sit down and takeaway.\nGrab yours while stocks last. \n𝘉𝘦𝘤𝘢𝘶𝘴𝘦 𝘦𝘷𝘦𝘳𝘺𝘵𝘩𝘪𝘯𝘨’𝘴 𝘣𝘪𝘨 𝘪𝘯 𝘛𝘦𝘹𝘢𝘴!\n𝘏𝘢𝘱𝘱𝘺 𝘏𝘰𝘶𝘳 𝘧𝘳𝘰𝘮 5𝘱𝘮 𝘵𝘰 7𝘱𝘮\n𝘛𝘩𝘦 𝘛𝘦𝘹𝘢𝘴 𝘎𝘳𝘪𝘭𝘭 𝘍𝘢𝘮𝘪𝘭𝘺 \nCLICK HERE TO VIEW OUR WEBPAGE
URL:https://local-info.co.za/event/%f0%9d%90%93%f0%9d%90%9e%f0%9d%90%b1%f0%9d%90%9a%f0%9d%90%ac-%f0%9d%90%86%f0%9d%90%ab%f0%9d%90%a2%f0%9d%90%a5%f0%9d%90%a5-%f0%9d%90%82%f0%9d%90%91%f0%9d%90%80%f0%9d%90%99%f0%9d%90%98-%f0%9d%90%93/
LOCATION:Texas Grill\, Meade street\, George\, Western Cape\, South Africa
CATEGORIES:Garden Route,George
ATTACH;FMTTYPE=image/jpeg:https://local-info.co.za/wp-content/uploads/2024/02/Texas-Grill-Tuesday-Special.jpg
END:VEVENT
BEGIN:VEVENT
DTSTART;TZID=Africa/Johannesburg:20240313T090000
DTEND;TZID=Africa/Johannesburg:20240313T213000
DTSTAMP:20260423T123930
CREATED:20240311T132240Z
LAST-MODIFIED:20240311T132226Z
UID:18599-1710320400-1710365400@local-info.co.za
SUMMARY:𝐓𝐞𝐱𝐚𝐬 𝐆𝐫𝐢𝐥𝐥 𝐂𝐑𝐀𝐙𝐘 𝐖𝐞𝐝𝐧𝐞𝐬𝐝𝐚𝐲 𝐒𝐩𝐞𝐜𝐢𝐚𝐥𝐬!
DESCRIPTION:Howdy Cowboys\, get ready for a meaty treat because tonight we feast away on our scrumptious Oxtail and Eisbein! \nEnjoy our Eisbein special – grab 2 for only R200! \n𝘉𝘦𝘤𝘢𝘶𝘴𝘦 𝘦𝘷𝘦𝘳𝘺𝘵𝘩𝘪𝘯𝘨’𝘴 𝘣𝘪𝘨 𝘪𝘯 𝘛𝘦𝘹𝘢𝘴!\n𝘏𝘢𝘱𝘱𝘺 𝘏𝘰𝘶𝘳 𝘧𝘳𝘰𝘮 5𝘱𝘮 𝘵𝘰 7𝘱𝘮 \nCLICK HERE TO VIEW OUR WEBPAGE
URL:https://local-info.co.za/event/%f0%9d%90%93%f0%9d%90%9e%f0%9d%90%b1%f0%9d%90%9a%f0%9d%90%ac-%f0%9d%90%86%f0%9d%90%ab%f0%9d%90%a2%f0%9d%90%a5%f0%9d%90%a5-%f0%9d%90%82%f0%9d%90%91%f0%9d%90%80%f0%9d%90%99%f0%9d%90%98-%f0%9d%90%96/
LOCATION:Texas Grill\, Meade street\, George\, Western Cape\, South Africa
CATEGORIES:Garden Route,George
ATTACH;FMTTYPE=image/jpeg:https://local-info.co.za/wp-content/uploads/2024/02/Texas-Grill-Wednesday-Special.jpg
END:VEVENT
BEGIN:VEVENT
DTSTART;TZID=Africa/Johannesburg:20240314T090000
DTEND;TZID=Africa/Johannesburg:20240314T213000
DTSTAMP:20260423T123930
CREATED:20240311T132041Z
LAST-MODIFIED:20240311T132012Z
UID:18602-1710406800-1710451800@local-info.co.za
SUMMARY:𝐓𝐞𝐱𝐚𝐬 𝐆𝐫𝐢𝐥𝐥 𝐂𝐑𝐀𝐙𝐘 𝐓𝐡𝐮𝐫𝐬𝐝𝐚𝐲 𝐒𝐏𝐄𝐂𝐈𝐀𝐋𝐒!
DESCRIPTION:Get stuck into the best ribs in town tonight\, beautifully sticky and marinated\, served with crispy chips – perfect for any date! \nBook your table to avoid disappointment – 𝟎𝟒𝟒 𝟖𝟕𝟑 𝟑𝟒𝟑𝟓 \n𝘉𝘦𝘤𝘢𝘶𝘴𝘦 𝘦𝘷𝘦𝘳𝘺𝘵𝘩𝘪𝘯𝘨’𝘴 𝘣𝘪𝘨 𝘪𝘯 𝘛𝘦𝘹𝘢𝘴!\n𝘏𝘢𝘱𝘱𝘺 𝘏𝘰𝘶𝘳 𝘧𝘳𝘰𝘮 5𝘱𝘮 𝘵𝘰 7𝘱𝘮\n𝘛𝘩𝘦 𝘛𝘦𝘹𝘢𝘴 𝘎𝘳𝘪𝘭𝘭 𝘍𝘢𝘮𝘪𝘭𝘺 \nCLICK HERE TO VIEW OUR WEBPAGE
URL:https://local-info.co.za/event/%f0%9d%90%93%f0%9d%90%9e%f0%9d%90%b1%f0%9d%90%9a%f0%9d%90%ac-%f0%9d%90%86%f0%9d%90%ab%f0%9d%90%a2%f0%9d%90%a5%f0%9d%90%a5-%f0%9d%90%82%f0%9d%90%91%f0%9d%90%80%f0%9d%90%99%f0%9d%90%98-%f0%9d%90%93-2/
LOCATION:Texas Grill\, Meade street\, George\, Western Cape\, South Africa
CATEGORIES:Garden Route,George
ATTACH;FMTTYPE=image/jpeg:https://local-info.co.za/wp-content/uploads/2024/02/Texas-Grill-Thursday-Special.jpg
END:VEVENT
BEGIN:VEVENT
DTSTART;TZID=Africa/Johannesburg:20240315T090000
DTEND;TZID=Africa/Johannesburg:20240315T220000
DTSTAMP:20260423T123930
CREATED:20240311T131403Z
LAST-MODIFIED:20240314T062628Z
UID:18607-1710493200-1710540000@local-info.co.za
SUMMARY:𝐅𝐫𝐢𝐝𝐚𝐲 𝐂𝐑𝐀𝐙𝐘 𝐛𝐫𝐚𝐚𝐢 𝐬𝐩𝐞𝐜𝐢𝐚𝐥𝐬!
DESCRIPTION:Kick off your boots and relax with our CRAZY Happy Hour specials tonight! \nDinner is ready to be served\, piping hot tonight\, with a variety of meaty feasts! \n𝘉𝘦𝘤𝘢𝘶𝘴𝘦 𝘦𝘷𝘦𝘳𝘺𝘵𝘩𝘪𝘯𝘨’𝘴 𝘣𝘪𝘨 𝘪𝘯 𝘛𝘦𝘹𝘢𝘴!\n𝘏𝘢𝘱𝘱𝘺 𝘏𝘰𝘶𝘳 𝘧𝘳𝘰𝘮 5𝘱𝘮 𝘵𝘰 7𝘱𝘮\n𝘛𝘩𝘦 𝘛𝘦𝘹𝘢𝘴 𝘎𝘳𝘪𝘭𝘭 𝘍𝘢𝘮𝘪𝘭𝘺 \nCLICK HERE TO VIEW OUR WEBPAGE
URL:https://local-info.co.za/event/%f0%9d%90%85%f0%9d%90%ab%f0%9d%90%a2%f0%9d%90%9d%f0%9d%90%9a%f0%9d%90%b2-%f0%9d%90%82%f0%9d%90%91%f0%9d%90%80%f0%9d%90%99%f0%9d%90%98-%f0%9d%90%9b%f0%9d%90%ab%f0%9d%90%9a%f0%9d%90%9a%f0%9d%90%a2/
LOCATION:Texas Grill\, Meade street\, George\, Western Cape\, South Africa
CATEGORIES:Garden Route,George
ATTACH;FMTTYPE=image/jpeg:https://local-info.co.za/wp-content/uploads/2024/02/Texas-Grill-Friday-Special.jpg
END:VEVENT
BEGIN:VEVENT
DTSTART;TZID=Africa/Johannesburg:20240316T090000
DTEND;TZID=Africa/Johannesburg:20240316T220000
DTSTAMP:20260423T123930
CREATED:20240205T130948Z
LAST-MODIFIED:20240314T062739Z
UID:18610-1710579600-1710626400@local-info.co.za
SUMMARY:Crazy Texas Saturday Specials!
DESCRIPTION:Enjoy our crazy Saturday burger specials at Texas – the western way! \n𝘉𝘦𝘤𝘢𝘶𝘴𝘦 𝘦𝘷𝘦𝘳𝘺𝘵𝘩𝘪𝘯𝘨’𝘴 𝘣𝘪𝘨 𝘪𝘯 𝘛𝘦𝘹𝘢𝘴!\n𝘏𝘢𝘱𝘱𝘺 𝘏𝘰𝘶𝘳 𝘧𝘳𝘰𝘮 5𝘱𝘮 𝘵𝘰 7𝘱𝘮\n𝘛𝘩𝘦 𝘛𝘦𝘹𝘢𝘴 𝘎𝘳𝘪𝘭𝘭 𝘍𝘢𝘮𝘪𝘭𝘺 \nCLICK HERE TO VIEW OUR WEBPAGE
URL:https://local-info.co.za/event/crazy-texas-friday-specials/
LOCATION:Texas Grill\, Meade street\, George\, Western Cape\, South Africa
CATEGORIES:Garden Route,George
ATTACH;FMTTYPE=image/jpeg:https://local-info.co.za/wp-content/uploads/2024/02/Texas-Grill-Saturday-Special.jpg
END:VEVENT
BEGIN:VEVENT
DTSTART;TZID=Africa/Johannesburg:20240327T080000
DTEND;TZID=Africa/Johannesburg:20240331T170000
DTSTAMP:20260423T123930
CREATED:20240327T075550Z
LAST-MODIFIED:20240327T075550Z
UID:19035-1711526400-1711904400@local-info.co.za
SUMMARY:Goldwagen Specials!
DESCRIPTION:Goldwagen in George sells high quality car parts and spares for the following car / vehicle brands: Toyota\, Ford\, Mazda\, Audi\, Nissan\, Isuzu\, VW\, BMW\, Mercedes-Benz\, Opel\, Chevrolet\, Hyundai\, Kia\, Land Rover\, Jeep\, Volvo\, Mini and Renault vehicles – all with a 12-month warranty.\n.\n\n\nPrepare to hit the road with our March specials on quality vehicle parts.\n\n\nSpecials are valid from 1 February  until 31 March 2024\n.\n\nVisit us in 34 Knysna Road\, George or give us a call at (044) 884 1284\nCLICK HERE TO VIEW OUR WEBSITE\n.
URL:https://local-info.co.za/event/goldwagen-specials/
LOCATION:GOLDWAGEN\, 34 Knysna Road\, George\, Western Cape\, South Africa
CATEGORIES:Garden Route,George
ATTACH;FMTTYPE=image/jpeg:https://local-info.co.za/wp-content/uploads/2024/03/Goldwagen-fron-View-1536x857-1.jpg
END:VEVENT
END:VCALENDAR