BEGIN:VCALENDAR
VERSION:2.0
PRODID:-//Local-Info.co.za - ECPv6.15.20//NONSGML v1.0//EN
CALSCALE:GREGORIAN
METHOD:PUBLISH
X-WR-CALNAME:Local-Info.co.za
X-ORIGINAL-URL:https://local-info.co.za
X-WR-CALDESC:Events for Local-Info.co.za
REFRESH-INTERVAL;VALUE=DURATION:PT1H
X-Robots-Tag:noindex
X-PUBLISHED-TTL:PT1H
BEGIN:VTIMEZONE
TZID:Africa/Johannesburg
BEGIN:STANDARD
TZOFFSETFROM:+0200
TZOFFSETTO:+0200
TZNAME:SAST
DTSTART:20210101T000000
END:STANDARD
END:VTIMEZONE
BEGIN:VEVENT
DTSTART;TZID=Africa/Johannesburg:20220901T080000
DTEND;TZID=Africa/Johannesburg:20220930T170000
DTSTAMP:20260424T172932
CREATED:20220913T130948Z
LAST-MODIFIED:20220913T130948Z
UID:12629-1662019200-1664557200@local-info.co.za
SUMMARY:Buy 4 Pies & get 1 FREE @Big Joe's Pie!
DESCRIPTION:Run Forrest Run! There is no way you want to miss this! \nGet 1 FREE pie when you buy 4 pies (=R76) \n#bigjoespiesfreebiebox YAY! Promo valid until 30 September 2022. (*applies to our standard pie flavours)\nJust plain good comfort food\nZERO additives\nZERO preservatives\nZERO added colours.\nBIG JOE’S PIES – a passion for food!\n#MasterPieMaker #bigjoespies
URL:https://local-info.co.za/event/buy-4-pies-get-1-free-big-joes-pie/
LOCATION:Big Joe’s Pies\, 72 Knysna Rd\, Eastern Extension\, George\, Western Cape\, 6529\, South Africa
CATEGORIES:Garden Route,George
ATTACH;FMTTYPE=image/jpeg:https://local-info.co.za/wp-content/uploads/2022/08/BIG-JOES-PIES-GEORGE-MOSSEL-BAY-FRESH-1-1.jpg
END:VEVENT
END:VCALENDAR