BEGIN:VCALENDAR
VERSION:2.0
PRODID:-//Local-Info.co.za - ECPv6.15.20//NONSGML v1.0//EN
CALSCALE:GREGORIAN
METHOD:PUBLISH
X-WR-CALNAME:Local-Info.co.za
X-ORIGINAL-URL:https://local-info.co.za
X-WR-CALDESC:Events for Local-Info.co.za
REFRESH-INTERVAL;VALUE=DURATION:PT1H
X-Robots-Tag:noindex
X-PUBLISHED-TTL:PT1H
BEGIN:VTIMEZONE
TZID:Africa/Johannesburg
BEGIN:STANDARD
TZOFFSETFROM:+0200
TZOFFSETTO:+0200
TZNAME:SAST
DTSTART:20230101T000000
END:STANDARD
END:VTIMEZONE
BEGIN:VEVENT
DTSTART;TZID=Africa/Johannesburg:20240531T140000
DTEND;TZID=Africa/Johannesburg:20240602T190000
DTSTAMP:20260422T213849
CREATED:20240522T105144Z
LAST-MODIFIED:20240522T105144Z
UID:19538-1717164000-1717354800@local-info.co.za
SUMMARY:Echo Gatherings: Disco In The Desert
DESCRIPTION:DISCO IN THE DESERT\nCalitzdorp Spa nestled in between the Swartberg mountains and Olifants river\, plays host to Echo’s Valley of Dreams\, The dancefloor and play area will be set between the pools and hotsprings where one can sit relax around the lush green dancefloor or take a splash while in there dream state of Freedom.. Come relax \, live\, dream \,play while we Dance and enjoy the sound vibrations through the rivers & valleys..~From (GEORGE ) Head through George towards Oudtshoorn \,over the oteniqua pass follow signs to Oudtshoorn\, once in Oudhtshoorn look for signs to turn left to Calitzdorp (R62) follow signs to Calitzdorp Spa its 30kms from Oudtshoorn (or enter on your google maps) GPS: CALITZDORP SPA ~From ( C.T ) Get on N1 head to Worcester once in Worcester take the R60 to Robertson \, carry on the R60 to Ashton\, then turn on to the Famous Route 62 through Barrydale heading towards Ladismith\, pass through and carry on to Calitzdorp once you are in town turn right into Andries Pretorious and follow Signs to Calitzdorp spa(or enter on your google maps) GPS: CALITZDORP SPA ~From (P.E) Head through towards Oudtshoorn on the R62 \,over \, once in Oudhtshoorn look for signs to turn left to Calitzdorp (R62) follow signs to Calitzdorp Spa its 30kms from Oudtshoorn (or enter on your google maps) GPS : CALITZDORP SPA \n★ॐ LINE UP ★ॐ\nTBA\n★ GATHERINGS FACILITIES ★\nShaded dance-floorsLush Grass CampingFresh Swimming (HOT N COLD SPRINGS)Food Stalls (many veggy options too)Bar ( 5th Element)Medical FacilitiesFriendly StaffCraft & Clothing Stalls24 hr Clean AblutionsHot n Cold Showers\n\n~ GATE SALE\n★TICKET PRICES AT GATE ★\n\nFULL WEEKEND PASS R650 \n SATURDAY R500 \nSUNDAY FUNDAY R300 \nFRIDAY GATES OPEN @ 2PMGATES CLOSE 12 PM OPEN 8 AM\n★ ONLINE EARLY BIRDS ★\nhttps://www.howler.co.za/discointhedesert\n\n★ACCOMODATION★\n★(Fully Self Catering)★\n6 SLEEPER MOUNTAIN CHALETS : R5000Check in 11 am Fri Checkout 11am Mon4 SLEEPER MOUNTAIN CHALETS R4000Check in 11 am Fri Checkout 11am Mon4 SLEEPER POOL CHALETS: R4000Check in 11 am Fri Checkout 11am MonContact Dan: 0726937491Email: echogatherings1234@gmail.com~~~~~~~~~~~~~~~~~~~~~~~~~~~~~~~~~~~~~~~~~~~~~~~~~~~★ STALLS ★Contact Dan: 0726937491Email: echogatherings1234@gmail.comBOOKINGS OPEN !!!~~~~~~~~~~~~~~~~~~~~~~~~~~~~~~~~~~~~~~~~★ DO’S AND DONTS ★~ DO’S ~Moola\, Toothpaste\, Jerseys\, Water\, \, camera\, Lip- ice\, Umbrella\, Suntan lotion\, Refuse Bags\, Tent\, sleeping bag\, sunglasses\,NB!!!!! GOOD VIBES ONLY~DONT’S ~Bad attitudes\, Illegal substances\, Dogs\, Weapons\, Independent Sound systems.Glass bottles – decant your drinks into plastic bottles before you come in\, NO SWIMMING AT NIGHTTHERE IS NO CELLPHONE RECEPTIONAT THE RESORT. So please fellow party people make sure you are organised before you get onto the pass;)))))★ CALITZDORP SPA ★This is a private venue/ event – Right of Admission Reserved! NO UNDER 18’s! No illegal activities. If you cause any negative vibes\, we will kindly ask you to leave without any refund or claims! LITTERING WILL NOT BE TOLERATED !!!!!!!The event organizers & property owners and/ or legal custodians of the property do not accept any responsibility whatsoever for injury\, death\, loss or damage of any nature to persons\, vehicles or belongings. This also applies to negligence by the organizers of any kind. Entry and participation in the event is entirely at your own risk. This is an outdoor event\, and subjected to weather and external conditions beyond our control. No refunds will be issued in the event of a cancellation due to bad weather or conditions beyond our control. However\, a credit note (not exceeding the ticket value) will be considered for an alternative date\, time and / or venue. Due care has been taken to make this event safe & secure as possible.By participating; it is assumed that you have read and accept these terms & conditions as prescribed above. Due to covid we cannot predict circumstancesor unforeseen circumstances\, we are forced to reschedule the event\, your ticket will be automatically valid for the very next available date in 2024 without any additional costs.NO SWIMMING AT NIGH
URL:https://local-info.co.za/event/echo-gatherings-disco-in-the-desert-2/
LOCATION:ECHO OUTDOOR GATHERING\, Western Cape\, South Africa
CATEGORIES:Garden Route,Oudtshoorn
ATTACH;FMTTYPE=image/jpeg:https://local-info.co.za/wp-content/uploads/2024/05/Echo-Gatherings-Disco-In-The-Desert.jpg
END:VEVENT
END:VCALENDAR