BEGIN:VCALENDAR
VERSION:2.0
PRODID:-//Local-Info.co.za - ECPv6.15.20//NONSGML v1.0//EN
CALSCALE:GREGORIAN
METHOD:PUBLISH
X-ORIGINAL-URL:https://local-info.co.za
X-WR-CALDESC:Events for Local-Info.co.za
REFRESH-INTERVAL;VALUE=DURATION:PT1H
X-Robots-Tag:noindex
X-PUBLISHED-TTL:PT1H
BEGIN:VTIMEZONE
TZID:Africa/Johannesburg
BEGIN:STANDARD
TZOFFSETFROM:+0200
TZOFFSETTO:+0200
TZNAME:SAST
DTSTART:20240101T000000
END:STANDARD
END:VTIMEZONE
BEGIN:VEVENT
DTSTART;TZID=Africa/Johannesburg:20250422T080000
DTEND;TZID=Africa/Johannesburg:20250422T170000
DTSTAMP:20260422T035238
CREATED:20250422T125935Z
LAST-MODIFIED:20250422T125936Z
UID:22446-1745308800-1745341200@local-info.co.za
SUMMARY:Get Dirty. Get Strong. Get to the Karoo Challenge!
DESCRIPTION:Klein Karoo Dust 4 Glory Challenge is coming back bigger and dustier than ever!\n\nSaturday\, 18 October 2025 – mark it\, circle it\, tattoo it on your arm (okay\, maybe don’t do that… but seriously\, SAVE THE DATE).\n\nAfter a break\, we’re back to bring the heat\, the mud\, and the madness you’ve been craving. Whether you’re a hardcore warrior or just in it for the epic vibes\, this is YOUR challenge.\n* Brutal obstacles.* Wild terrain.* Pure adrenaline.* Bragging rights guaranteed.* Amazing prizes\n\nEntries will open soon – keep your eyes glued to this page or risk missing out. You’ve been warned.\nAre you ready to earn your glory?
URL:https://local-info.co.za/event/get-dirty-get-strong-get-to-the-karoo-challenge/
LOCATION:Western Cape
CATEGORIES:Oudtshoorn
ATTACH;FMTTYPE=image/jpeg:https://local-info.co.za/wp-content/uploads/2025/04/Klein-Karoo.jpg
END:VEVENT
END:VCALENDAR